BEGIN:VCALENDAR
VERSION:2.0
BEGIN:VEVENT
DTSTART:20260108T115500
DURATION:PT00H00M00S
SUMMARY:[DEADLINE] ΙΩΑΝΝΗΣ ΚΑΠΟΔΙΣΤΡΙΑΣ VS ΑΛΕΞΑΝΔΡΟΣ ΥΨΗΛΑΝΤΗΣ
DESCRIPTION:(deadline: 2026-01-08 11:55:00)
BEGIN:VALARM
TRIGGER:-PT24H
DURATION:PT10H
ACTION:DISPLAY
DESCRIPTION:DEADLINE REMINDER for ΙΩΑΝΝΗΣ ΚΑΠΟΔΙΣΤΡΙΑΣ VS ΑΛΕΞΑΝΔΡΟΣ ΥΨΗΛΑΝΤΗΣ
END:VALARM
END:VEVENT
BEGIN:VEVENT
DTSTART:20260109T120500
DURATION:PT00H00M00S
SUMMARY:[DEADLINE] Η Φιλική Εταιρεία -Συμπλήρωσε τα κενά-/Πάτησε εδώ
DESCRIPTION:Εφόσον παρακολούθησες το βίντεο , μπορείς να συμπληρώσεις την παρακάτω άσκηση. Θα πρέπει να συμπληρώσεις με πεζά γράμματα και χρησιμοποιώντας τόνους, κεφαλαία θα είναι μόνο το αρχικό γράμμα και όπου χρειάζεται π.χ. Ρωσία.
(deadline: 2026-01-09 12:05:00)
BEGIN:VALARM
TRIGGER:-PT24H
DURATION:PT10H
ACTION:DISPLAY
DESCRIPTION:DEADLINE REMINDER for Η Φιλική Εταιρεία -Συμπλήρωσε τα κενά-/Πάτησε εδώ
END:VALARM
END:VEVENT
BEGIN:VEVENT
DTSTART:20260111T124500
DURATION:PT00H00M00S
SUMMARY:[DEADLINE] Οι Φιλικοί χρησιμοποιούσαν μυστικούς κώδικες για να επικοινωνούν κρυφά και να μην εντοπίζονται από τους Οθωμανούς.
DESCRIPTION:Με βάση το βίντεο που παρακολούθησατε , δείτε προσεχτικά την παρακάτω εργασία και στο τέλος απαντήστε στο Online κείμενο:




(deadline: 2026-01-11 12:45:00)
BEGIN:VALARM
TRIGGER:-PT24H
DURATION:PT10H
ACTION:DISPLAY
DESCRIPTION:DEADLINE REMINDER for Οι Φιλικοί χρησιμοποιούσαν μυστικούς κώδικες για να επικοινωνούν κρυφά και να μην εντοπίζονται από τους Οθωμανούς.
END:VALARM
END:VEVENT
BEGIN:VEVENT
DTSTART:20260111T140500
DURATION:PT00H00M00S
SUMMARY:[DEADLINE] Όρκος Φιλικής Εταιρείας
DESCRIPTION:Μόλις παρακολουθήσεις το βίντεο , πάτησε εδώ
Μόλις διαβάσεις τον Όρκο των Φιλικών , γράψε σε ένα κείμενο Word( 150 λέξεις) , σε ποια σημαντικά ιδανικά ορκίζονταν όσοι γίνονταν μέλη της Φιλικής εταιρείας.
Πες την άποψή σου , σύμφωνα με όσα διάβασες και παρακολούθησες στο βίντεο.
(deadline: 2026-01-11 14:05:00)
BEGIN:VALARM
TRIGGER:-PT24H
DURATION:PT10H
ACTION:DISPLAY
DESCRIPTION:DEADLINE REMINDER for Όρκος Φιλικής Εταιρείας
END:VALARM
END:VEVENT
BEGIN:VEVENT
DTSTART:20260111T151000
DURATION:PT00H00M00S
SUMMARY:[DEADLINE] ΑΞΙΟΛΟΓΗΣΗ
DESCRIPTION:Με βάση το βίντεο που παρακολουθήσατε προηγουμένως απαντήστε στις παρακάτω ερωτήσεις.
(deadline: 2026-01-11 15:10:00)
BEGIN:VALARM
TRIGGER:-PT24H
DURATION:PT10H
ACTION:DISPLAY
DESCRIPTION:DEADLINE REMINDER for ΑΞΙΟΛΟΓΗΣΗ
END:VALARM
END:VEVENT
BEGIN:VEVENT
DTSTART:20260111T160500
DURATION:PT00H00M00S
SUMMARY:[DEADLINE] ΜΥΣΤΙΚΕΣ ΕΤΑΙΡΕΙΕΣ
DESCRIPTION:Στην μηχανή αναζήτησης google αναζητήστε πληροφορίες για τις “ μυστικές” εταιρείες του  19ου και 20ου αιώνα: Καρμπονάροι και Μασόνοι χρησιμοποιώντας τις λέξεις – κλειδιά : τεκτονισμός, οργάνωση, σύμβολα, όρκος, βαθμοί, μύηση  και κρατήστε σημειώσεις σε ένα αρχείο WOrd.
Με τις πληροφορίες που αντλήσατε από τις ιστοσελίδες  και αποδελτιώσατε να κατασκευάσετε ένα αρχείο Word παρουσιάζοντας τις ομοιότητες και τις διαφορές ως προς το χαρακτήρα, το ρόλο, την οργάνωση και  τα μέσα των “ μυστικών” εταιρειών του 19ου και 20ου αιώνα. Στην παρουσίαση  μην παραλείψετε να προσθέσετε εικόνες.
Μπορείτε να αναζητήσετε πληροφορίες και στη Wikipaideia, πατώντας εδώ
(deadline: 2026-01-11 16:05:00)
BEGIN:VALARM
TRIGGER:-PT24H
DURATION:PT10H
ACTION:DISPLAY
DESCRIPTION:DEADLINE REMINDER for ΜΥΣΤΙΚΕΣ ΕΤΑΙΡΕΙΕΣ
END:VALARM
END:VEVENT
BEGIN:VEVENT
DTSTART:20260111T164500
DURATION:PT00H00M00S
SUMMARY:[DEADLINE] ΒΗΜΑ 20: ΝΟΕΛΛΗΝΙΚΟΣ ΔΙΑΦΩΤΙΣΜΟΣ: ΙΣΤΟΡΙΚΕΣ ΠΗΓΕΣ / ΠΑΤΗΣΕ ΕΔΩ
DESCRIPTION:Διάβασε τα παρακάτω αποσπάσματα των ιστορικών πηγών:
1.Νεοελληνικός Διαφωτισμός



«Ο διαφωτισμός θεωρείται συχνά ως πνευματική εκδήλωση της ελληνικής Διασποράς. Η διαπίστωση είναι μεν αληθής αλλά δεν ανταποκρίνεται προς τη συνολική ιστορική εικόνα. Στις ελληνικές παροικίες της Δυτικής και της Κεντρικής Ευρώπης, στη Βενετία, τη Βιέννη, τη Βουδαπέστη, την Τεργέστη, τη Λειψία, τη Μασσαλία, το Λιβόρνο, το Άμστερνταμ, το Παρίσι, οι Έλληνες έρχονταν πάντοτε σε επαφή με τα πνευματικά ρεύματα της Δύσης και στις εστίες αυτές της ελληνικής Διασποράς συντελέστηκαν με ποικίλους τρόπους και σε πολλά επίπεδα οι επαφές με τον Διαφωτισμό. Άλλωστε στα κέντρα αυτά της ευρωπαϊκής τυπογραφίας πραγματοποιήθηκε και το μέγιστο μέρος της εκδοτικής παραγωγής του Νεοελληνικού Διαφωτισμού. Επίσης οι πόλεις της νότιας Ρωσίας και της Ουκρανίας, που την εποχή της ακμής του Διαφωτισμού είχαν αποικιστεί από Έλληνες, αλλά κατ' εξοχήν οι ελληνικές παροικίες των Παραδουνάβιων Ηγεμονιών της Βλαχίας και της Μολδαβίας, όπως και εκείνες της Τρανσυλβανίας και της Ουγγαρίας, απέβησαν κοιτίδες της ελληνικής παιδείας των Φώτων.»
Κιτρομηλίδης Π., «Νεοελληνικός Διαφωτισμός», 1821 Η γέννηση ενός κράτους-έθνους. Ιδεολογικά ρεύματα: Έλληνες-Οθωμανοί, ΣΚΑΪ-Βιβλίο, Αθήνα 2010, σ.21.
2.Στροφή του ευρωπαϊκού ενδιαφέροντος προς τον Ελληνισμό

«Η προσέγγιση των Ελλήνων της διασποράς με τους υπόλοιπους λαούς συνετέλεσε αποφασιστικά στη μείωση των δυσμενών εντυπώσεων που επικρατούσαν ως τότε ως προς την πνευματική και ηθική "εξαθλίωση" των απογόνων των αρχαίων Ελλήνων. Ταυτόχρονα το διεθνές ενδιαφέρον για την τύχη αυτού του λαού ολοένα αυξανόταν. Τα πράγματα βέβαια δεν μπορούσαν να μεταβληθούν απότομα, ούτε όσες δυσκολίες είχαν ανακύψει και καλλιεργηθή διά μέσου τόσων αιώνων να εξουδετερωθούν διαμιάς. Οι συχνές επαφές όμως των Ελλήνων με τον έξω κόσμο δημιούργησαν με τον καιρό ένα ευνοϊκό κλίμα και γι' αυτό, σε όσα μέρη σύχναζαν Έλληνες, παρατηρείται, πριν από την Επανάσταση και σε όλη τη διάρκειά της, μια τόνωση του φιλελληνικού αισθήματος. Τούτο δεν απέρρεε μόνο από τα γνωστά κίνητρα των διεθνών τάσεων οι προσωπικές σχέσεις και φιλίες που είχαν αναπτυχθή με πρόσωπα ελληνικής καταγωγής συνετέλεσαν ώστε να σημειωθούν αλλαγές στη διεθνή στάση απέναντι στο υπόδουλο έθνος.»
Μπορείς να διαβάσεις και άλλες πηγές για την περίοδο του Νοελληνικού Διαφωτισμού , πατώντας εδώ.
Στη συνέχεια σε ένα κείμενο Word, γράψε την άποψή σου σχετικά με το αν ήταν θετική ή όχι η επικοινωνία των Ελλήνων της Διασποράς με περιοχές της Δύσης και που πιστεύεις οτι βοήθησε το ελληνικό έθνος.




(deadline: 2026-01-11 16:45:00)
BEGIN:VALARM
TRIGGER:-PT24H
DURATION:PT10H
ACTION:DISPLAY
DESCRIPTION:DEADLINE REMINDER for ΒΗΜΑ 20: ΝΟΕΛΛΗΝΙΚΟΣ ΔΙΑΦΩΤΙΣΜΟΣ: ΙΣΤΟΡΙΚΕΣ ΠΗΓΕΣ / ΠΑΤΗΣΕ ΕΔΩ
END:VALARM
END:VEVENT
BEGIN:VEVENT
DTSTART:20260111T170000
DURATION:PT00H00M00S
SUMMARY:[DEADLINE] ΣΚΟΠΟΣ ΦΙΛΙΚΗΣ ΕΤΑΙΡΕΙΑΣ /ΠΑΤΗΣΕ ΕΔΩ ΚΑΙ ΔΙΑΒΑΣΕ ΤΟ ΠΑΡΑΚΑΤΩ ΑΠΟΣΠΑΣΜΑ
DESCRIPTION:(deadline: 2026-01-11 17:00:00)
BEGIN:VALARM
TRIGGER:-PT24H
DURATION:PT10H
ACTION:DISPLAY
DESCRIPTION:DEADLINE REMINDER for ΣΚΟΠΟΣ ΦΙΛΙΚΗΣ ΕΤΑΙΡΕΙΑΣ /ΠΑΤΗΣΕ ΕΔΩ ΚΑΙ ΔΙΑΒΑΣΕ ΤΟ ΠΑΡΑΚΑΤΩ ΑΠΟΣΠΑΣΜΑ
END:VALARM
END:VEVENT
BEGIN:VEVENT
DTSTART:20260111T171000
DURATION:PT00H00M00S
SUMMARY:[DEADLINE] ΟΙ ΙΔΡΥΤΕΣ ΤΗΣ ΦΙΛΙΚΗΣ ΕΤΑΙΡΕΙΑΣ/ ΠΑΤΗΣΕ ΕΔΩ
DESCRIPTION:Πάτησε πάνω στην κάθε εικόνα και βρες πληροφορίες για κάθε Ιδρυτή της. Στη συνέχεια μπορείς να γράψεις με δικά σου λόγια το πολύ σε 10 σειράς για τον καθένα τους , ό,τι θεωρείς εσύ σημαντικό.
    
Σημείωσε στο παρακάτω κείμενο.
(deadline: 2026-01-11 17:10:00)
BEGIN:VALARM
TRIGGER:-PT24H
DURATION:PT10H
ACTION:DISPLAY
DESCRIPTION:DEADLINE REMINDER for ΟΙ ΙΔΡΥΤΕΣ ΤΗΣ ΦΙΛΙΚΗΣ ΕΤΑΙΡΕΙΑΣ/ ΠΑΤΗΣΕ ΕΔΩ
END:VALARM
END:VEVENT
BEGIN:VEVENT
DTSTART:20260111T172500
DURATION:PT00H00M00S
SUMMARY:[DEADLINE] 2ο ΒΗΜΑ: ΑΞΙΟΛΟΓΗΣΗ ΜΑΘΗΜΑΤΟΣ/ΠΑΤΗΣΕ ΕΔΩ.
DESCRIPTION:Παρακάτω θα σου δοθούν διάφορες ερωτήσεις σχετικά με όσα μαθημε. Αν δυσκολευτείς μπορείς να ανατρέξεις στο βίντεο πατώντας εδώ.
(deadline: 2026-01-11 17:25:00)
BEGIN:VALARM
TRIGGER:-PT24H
DURATION:PT10H
ACTION:DISPLAY
DESCRIPTION:DEADLINE REMINDER for 2ο ΒΗΜΑ: ΑΞΙΟΛΟΓΗΣΗ ΜΑΘΗΜΑΤΟΣ/ΠΑΤΗΣΕ ΕΔΩ.
END:VALARM
END:VEVENT
BEGIN:VEVENT
DTSTART:20260112T153500
DURATION:PT00H00M00S
SUMMARY:[DEADLINE] Βήμα 3ο: ΣΗΜΑΝΤΙΚΕΣ ΙΣΤΟΡΙΚΕΣ ΕΝΝΟΙΕΣ
DESCRIPTION:Με βάση το βίντεο που παρακολούθησες στους παρακάτω συνδέσμους σου δίνονται κάποιες σημαντικές ιστορικές έννοιες , που εξηγούν τον τρόπο ζωής των υπόδουλων Ελλήνων κατά την περίοδο της Τουρκοκρατίας. 
Μπορείς να αφιερώσεις λίγο χρόνο να διαβάσεις αυτές τις ιστορικές έννοιες, πατώντας πάνω τους. Σημείωσε κάτω στο κείμενο κάτι που σου έκανε εντύπωση από αυτά που διάβασες.
1.Κλεφτοπόλεμος
2.Παιδομάζωμα
3.Αρματολοί
Μπορείς να βρείς και άλλες σημαντικές ιστορικές έννοιες πατώντας εδώ.
(deadline: 2026-01-12 15:35:00)
BEGIN:VALARM
TRIGGER:-PT24H
DURATION:PT10H
ACTION:DISPLAY
DESCRIPTION:DEADLINE REMINDER for Βήμα 3ο: ΣΗΜΑΝΤΙΚΕΣ ΙΣΤΟΡΙΚΕΣ ΕΝΝΟΙΕΣ
END:VALARM
END:VEVENT
BEGIN:VEVENT
DTSTART:20260112T154000
DURATION:PT00H00M00S
SUMMARY:[DEADLINE] Εθνική Συνείδηση ή όχι; Γράψε τη γνώμη σου / Πάτησε εδώ
DESCRIPTION:Με βάση το βίντεο , θα μπορούσες να απαντήσεις στα παρακάτω ερωτήματα:
1. Μετά από 400 χρόνια σκλαβιάς οι Έλληνες , τι κατάφεραν να διατηρήσουν και δε ξέχασαν ποτέ;
2.Γιατί οι Οθωμανοί Τούρκοι δεν επέτρεπαν στους Ελληνές να μαθαίνουν γράμματα και να μορφώνονται; Ποια είναι η γνώμη σου;
Γράψε την απάντησή σου σ'ένα αρχείο WORD μέχρι 150 λέξεις.
 
(deadline: 2026-01-12 15:40:00)
BEGIN:VALARM
TRIGGER:-PT24H
DURATION:PT10H
ACTION:DISPLAY
DESCRIPTION:DEADLINE REMINDER for Εθνική Συνείδηση ή όχι; Γράψε τη γνώμη σου / Πάτησε εδώ
END:VALARM
END:VEVENT
END:VCALENDAR
