BEGIN:VCALENDAR
VERSION:2.0
BEGIN:VEVENT
DTSTART:20260421T083838
DURATION:PT00H00M00S
SUMMARY:[DEADLINE] Τι γνωρίζεις για το Photoshop;
DESCRIPTION:
BEGIN:VALARM
TRIGGER:-PT24H
DURATION:PT10H
ACTION:DISPLAY
DESCRIPTION:DEADLINE REMINDER for Τι γνωρίζεις για το Photoshop;
END:VALARM
END:VEVENT
BEGIN:VEVENT
DTSTART:20260421T083838
DURATION:PT00H00M00S
SUMMARY:[DEADLINE] ΑΣΚΗΣΗ ΚΑΤΑΝΟΗΣΗΣ : 1ου Μαθήματος
DESCRIPTION:
BEGIN:VALARM
TRIGGER:-PT24H
DURATION:PT10H
ACTION:DISPLAY
DESCRIPTION:DEADLINE REMINDER for ΑΣΚΗΣΗ ΚΑΤΑΝΟΗΣΗΣ : 1ου Μαθήματος
END:VALARM
END:VEVENT
BEGIN:VEVENT
DTSTART:20260421T083838
DURATION:PT00H00M00S
SUMMARY:[DEADLINE] Άσκηση 2 – Σωστό/Λάθος για Photoshop
DESCRIPTION:
BEGIN:VALARM
TRIGGER:-PT24H
DURATION:PT10H
ACTION:DISPLAY
DESCRIPTION:DEADLINE REMINDER for Άσκηση 2 – Σωστό/Λάθος για Photoshop
END:VALARM
END:VEVENT
BEGIN:VEVENT
DTSTART:20260421T083838
DURATION:PT00H00M00S
SUMMARY:[DEADLINE] Άσκηση 1 – Πρακτική με Μάσκες και Layers
DESCRIPTION:
BEGIN:VALARM
TRIGGER:-PT24H
DURATION:PT10H
ACTION:DISPLAY
DESCRIPTION:DEADLINE REMINDER for Άσκηση 1 – Πρακτική με Μάσκες και Layers
END:VALARM
END:VEVENT
BEGIN:VEVENT
DTSTART:20260421T083838
DURATION:PT00H00M00S
SUMMARY:[DEADLINE] Άσκηση 2: Αντιστοίχιση - Μάσκες
DESCRIPTION:
BEGIN:VALARM
TRIGGER:-PT24H
DURATION:PT10H
ACTION:DISPLAY
DESCRIPTION:DEADLINE REMINDER for Άσκηση 2: Αντιστοίχιση - Μάσκες
END:VALARM
END:VEVENT
BEGIN:VEVENT
DTSTART:20260421T083838
DURATION:PT00H00M00S
SUMMARY:[DEADLINE] Άσκηση 3: Συμπλήρωση Κενών
DESCRIPTION:
BEGIN:VALARM
TRIGGER:-PT24H
DURATION:PT10H
ACTION:DISPLAY
DESCRIPTION:DEADLINE REMINDER for Άσκηση 3: Συμπλήρωση Κενών
END:VALARM
END:VEVENT
END:VCALENDAR
