BEGIN:VCALENDAR
VERSION:2.0
BEGIN:VEVENT
DTSTART:20260422T173347
DURATION:PT00H00M00S
SUMMARY:[DEADLINE] Προαιρετική εργασία
DESCRIPTION:
BEGIN:VALARM
TRIGGER:-PT24H
DURATION:PT10H
ACTION:DISPLAY
DESCRIPTION:DEADLINE REMINDER for Προαιρετική εργασία
END:VALARM
END:VEVENT
BEGIN:VEVENT
DTSTART:20260422T173347
DURATION:PT00H00M00S
SUMMARY:[DEADLINE] Padlet "Σπίτι με κήπον"
DESCRIPTION:
BEGIN:VALARM
TRIGGER:-PT24H
DURATION:PT10H
ACTION:DISPLAY
DESCRIPTION:DEADLINE REMINDER for Padlet "Σπίτι με κήπον"
END:VALARM
END:VEVENT
BEGIN:VEVENT
DTSTART:20260422T173347
DURATION:PT00H00M00S
SUMMARY:[DEADLINE] Απόστροφος
DESCRIPTION:
BEGIN:VALARM
TRIGGER:-PT24H
DURATION:PT10H
ACTION:DISPLAY
DESCRIPTION:DEADLINE REMINDER for Απόστροφος
END:VALARM
END:VEVENT
END:VCALENDAR
