BEGIN:VCALENDAR
VERSION:2.0
BEGIN:VEVENT
DTSTART:20260423T125423
DURATION:PT00H00M00S
SUMMARY:[DEADLINE] ΤΕΣΤ 1ης Διδακτικής Ενότητας
DESCRIPTION:
BEGIN:VALARM
TRIGGER:-PT24H
DURATION:PT10H
ACTION:DISPLAY
DESCRIPTION:DEADLINE REMINDER for ΤΕΣΤ 1ης Διδακτικής Ενότητας
END:VALARM
END:VEVENT
BEGIN:VEVENT
DTSTART:20250425T235500
DURATION:PT00H00M00S
SUMMARY:[DEADLINE] ΤΕΣΤ 2ης Διδακτικής Ενότητας
DESCRIPTION:(deadline: 2025-04-25 23:55:00)
BEGIN:VALARM
TRIGGER:-PT24H
DURATION:PT10H
ACTION:DISPLAY
DESCRIPTION:DEADLINE REMINDER for ΤΕΣΤ 2ης Διδακτικής Ενότητας
END:VALARM
END:VEVENT
BEGIN:VEVENT
DTSTART:20250426T195500
DURATION:PT00H00M00S
SUMMARY:[DEADLINE] 1η Εργασία 2ης Διδακτικής Ενότητας
DESCRIPTION:(deadline: 2025-04-26 19:55:00)
BEGIN:VALARM
TRIGGER:-PT24H
DURATION:PT10H
ACTION:DISPLAY
DESCRIPTION:DEADLINE REMINDER for 1η Εργασία 2ης Διδακτικής Ενότητας
END:VALARM
END:VEVENT
BEGIN:VEVENT
DTSTART:20260131T235500
DURATION:PT00H00M00S
SUMMARY:[DEADLINE] 1η Εργασία 1ης Διδακτικής Ενότητας
DESCRIPTION:(deadline: 2026-01-31 23:55:00)
BEGIN:VALARM
TRIGGER:-PT24H
DURATION:PT10H
ACTION:DISPLAY
DESCRIPTION:DEADLINE REMINDER for 1η Εργασία 1ης Διδακτικής Ενότητας
END:VALARM
END:VEVENT
END:VCALENDAR
