BEGIN:VCALENDAR
VERSION:2.0
BEGIN:VEVENT
DTSTART:20260422T101524
DURATION:PT00H00M00S
SUMMARY:[DEADLINE] 1η ΕΡΓΑΣΙΑ
DESCRIPTION:
BEGIN:VALARM
TRIGGER:-PT24H
DURATION:PT10H
ACTION:DISPLAY
DESCRIPTION:DEADLINE REMINDER for 1η ΕΡΓΑΣΙΑ
END:VALARM
END:VEVENT
BEGIN:VEVENT
DTSTART:20260422T101524
DURATION:PT00H00M00S
SUMMARY:[DEADLINE] 2η ΕΡΓΑΣΙΑ
DESCRIPTION:
BEGIN:VALARM
TRIGGER:-PT24H
DURATION:PT10H
ACTION:DISPLAY
DESCRIPTION:DEADLINE REMINDER for 2η ΕΡΓΑΣΙΑ
END:VALARM
END:VEVENT
BEGIN:VEVENT
DTSTART:20260422T101524
DURATION:PT00H00M00S
SUMMARY:[DEADLINE] 3η ΕΡΓΑΣΙΑ
DESCRIPTION:
BEGIN:VALARM
TRIGGER:-PT24H
DURATION:PT10H
ACTION:DISPLAY
DESCRIPTION:DEADLINE REMINDER for 3η ΕΡΓΑΣΙΑ
END:VALARM
END:VEVENT
BEGIN:VEVENT
DTSTART:20260422T101524
DURATION:PT00H00M00S
SUMMARY:[DEADLINE] 4η ΕΡΓΑΣΙΑ
DESCRIPTION:
BEGIN:VALARM
TRIGGER:-PT24H
DURATION:PT10H
ACTION:DISPLAY
DESCRIPTION:DEADLINE REMINDER for 4η ΕΡΓΑΣΙΑ
END:VALARM
END:VEVENT
BEGIN:VEVENT
DTSTART:20260422T101524
DURATION:PT00H00M00S
SUMMARY:[DEADLINE] 5η ΕΡΓΑΣΙΑ
DESCRIPTION:
BEGIN:VALARM
TRIGGER:-PT24H
DURATION:PT10H
ACTION:DISPLAY
DESCRIPTION:DEADLINE REMINDER for 5η ΕΡΓΑΣΙΑ
END:VALARM
END:VEVENT
BEGIN:VEVENT
DTSTART:20260422T101524
DURATION:PT00H00M00S
SUMMARY:[DEADLINE] 1η ΑΣΚΗΣΗ
DESCRIPTION:
BEGIN:VALARM
TRIGGER:-PT24H
DURATION:PT10H
ACTION:DISPLAY
DESCRIPTION:DEADLINE REMINDER for 1η ΑΣΚΗΣΗ
END:VALARM
END:VEVENT
BEGIN:VEVENT
DTSTART:20260422T101524
DURATION:PT00H00M00S
SUMMARY:[DEADLINE] 3η ΑΣΚΗΣΗ
DESCRIPTION:
BEGIN:VALARM
TRIGGER:-PT24H
DURATION:PT10H
ACTION:DISPLAY
DESCRIPTION:DEADLINE REMINDER for 3η ΑΣΚΗΣΗ
END:VALARM
END:VEVENT
BEGIN:VEVENT
DTSTART:20260422T101524
DURATION:PT00H00M00S
SUMMARY:[DEADLINE] 4η ΑΣΚΗΣΗ
DESCRIPTION:
BEGIN:VALARM
TRIGGER:-PT24H
DURATION:PT10H
ACTION:DISPLAY
DESCRIPTION:DEADLINE REMINDER for 4η ΑΣΚΗΣΗ
END:VALARM
END:VEVENT
BEGIN:VEVENT
DTSTART:20260422T101524
DURATION:PT00H00M00S
SUMMARY:[DEADLINE] 2η ΑΣΚΗΣΗ
DESCRIPTION:
BEGIN:VALARM
TRIGGER:-PT24H
DURATION:PT10H
ACTION:DISPLAY
DESCRIPTION:DEADLINE REMINDER for 2η ΑΣΚΗΣΗ
END:VALARM
END:VEVENT
END:VCALENDAR
