BEGIN:VCALENDAR
VERSION:2.0
BEGIN:VEVENT
DTSTART:20260422T050611
DURATION:PT00H00M00S
SUMMARY:[DEADLINE] Άσκηση 1 (Σωστό-Λάθος)
DESCRIPTION:
BEGIN:VALARM
TRIGGER:-PT24H
DURATION:PT10H
ACTION:DISPLAY
DESCRIPTION:DEADLINE REMINDER for Άσκηση 1 (Σωστό-Λάθος)
END:VALARM
END:VEVENT
BEGIN:VEVENT
DTSTART:20260422T050611
DURATION:PT00H00M00S
SUMMARY:[DEADLINE] Άσκηση 2
DESCRIPTION:
BEGIN:VALARM
TRIGGER:-PT24H
DURATION:PT10H
ACTION:DISPLAY
DESCRIPTION:DEADLINE REMINDER for Άσκηση 2
END:VALARM
END:VEVENT
BEGIN:VEVENT
DTSTART:20260422T050611
DURATION:PT00H00M00S
SUMMARY:[DEADLINE] Άσκηση 3  Συνώνυμα
DESCRIPTION:
BEGIN:VALARM
TRIGGER:-PT24H
DURATION:PT10H
ACTION:DISPLAY
DESCRIPTION:DEADLINE REMINDER for Άσκηση 3 Συνώνυμα
END:VALARM
END:VEVENT
BEGIN:VEVENT
DTSTART:20260422T050611
DURATION:PT00H00M00S
SUMMARY:[DEADLINE] Άσκηση Προβληματισμού
DESCRIPTION:
BEGIN:VALARM
TRIGGER:-PT24H
DURATION:PT10H
ACTION:DISPLAY
DESCRIPTION:DEADLINE REMINDER for Άσκηση Προβληματισμού
END:VALARM
END:VEVENT
BEGIN:VEVENT
DTSTART:20260422T050611
DURATION:PT00H00M00S
SUMMARY:[DEADLINE] Παραγωγή λόγου
DESCRIPTION:
BEGIN:VALARM
TRIGGER:-PT24H
DURATION:PT10H
ACTION:DISPLAY
DESCRIPTION:DEADLINE REMINDER for Παραγωγή λόγου
END:VALARM
END:VEVENT
BEGIN:VEVENT
DTSTART:20260422T050611
DURATION:PT00H00M00S
SUMMARY:[DEADLINE] Σύγκριση Κειμένων
DESCRIPTION:
BEGIN:VALARM
TRIGGER:-PT24H
DURATION:PT10H
ACTION:DISPLAY
DESCRIPTION:DEADLINE REMINDER for Σύγκριση Κειμένων
END:VALARM
END:VEVENT
BEGIN:VEVENT
DTSTART:20260422T050611
DURATION:PT00H00M00S
SUMMARY:[DEADLINE] Άσκηση Προβληματισμού
DESCRIPTION:
BEGIN:VALARM
TRIGGER:-PT24H
DURATION:PT10H
ACTION:DISPLAY
DESCRIPTION:DEADLINE REMINDER for Άσκηση Προβληματισμού
END:VALARM
END:VEVENT
BEGIN:VEVENT
DTSTART:20260422T050611
DURATION:PT00H00M00S
SUMMARY:[DEADLINE] Άσκηση αφόρμησης
DESCRIPTION:
BEGIN:VALARM
TRIGGER:-PT24H
DURATION:PT10H
ACTION:DISPLAY
DESCRIPTION:DEADLINE REMINDER for Άσκηση αφόρμησης
END:VALARM
END:VEVENT
END:VCALENDAR
