BEGIN:VCALENDAR
VERSION:2.0
BEGIN:VEVENT
DTSTART:20260423T113043
DURATION:PT00H00M00S
SUMMARY:[DEADLINE] Προαιρετική εργασία- Τεχνολογία και Θεολογία
DESCRIPTION:
BEGIN:VALARM
TRIGGER:-PT24H
DURATION:PT10H
ACTION:DISPLAY
DESCRIPTION:DEADLINE REMINDER for Προαιρετική εργασία- Τεχνολογία και Θεολογία
END:VALARM
END:VEVENT
BEGIN:VEVENT
DTSTART:20260423T113043
DURATION:PT00H00M00S
SUMMARY:[DEADLINE] Άσκηση Ενότητας 1- (συμπλήρωση κενού)
DESCRIPTION:
BEGIN:VALARM
TRIGGER:-PT24H
DURATION:PT10H
ACTION:DISPLAY
DESCRIPTION:DEADLINE REMINDER for Άσκηση Ενότητας 1- (συμπλήρωση κενού)
END:VALARM
END:VEVENT
BEGIN:VEVENT
DTSTART:20260423T113043
DURATION:PT00H00M00S
SUMMARY:[DEADLINE] Άσκηση Ενότητας 1- (Αντιστοίχιση)
DESCRIPTION:
BEGIN:VALARM
TRIGGER:-PT24H
DURATION:PT10H
ACTION:DISPLAY
DESCRIPTION:DEADLINE REMINDER for Άσκηση Ενότητας 1- (Αντιστοίχιση)
END:VALARM
END:VEVENT
BEGIN:VEVENT
DTSTART:20260423T113043
DURATION:PT00H00M00S
SUMMARY:[DEADLINE] Άσκηση πολλαπλής επιλογής.
DESCRIPTION:
BEGIN:VALARM
TRIGGER:-PT24H
DURATION:PT10H
ACTION:DISPLAY
DESCRIPTION:DEADLINE REMINDER for Άσκηση πολλαπλής επιλογής.
END:VALARM
END:VEVENT
END:VCALENDAR
