BEGIN:VCALENDAR
VERSION:2.0
BEGIN:VEVENT
DTSTART:20240924T235500
DURATION:PT00H00M00S
SUMMARY:[DEADLINE] κύριες και δευτερεύουσες προτάσεις
DESCRIPTION:(deadline: 2024-09-24 23:55:00)
BEGIN:VALARM
TRIGGER:-PT24H
DURATION:PT10H
ACTION:DISPLAY
DESCRIPTION:DEADLINE REMINDER for κύριες και δευτερεύουσες προτάσεις
END:VALARM
END:VEVENT
BEGIN:VEVENT
DTSTART:20240928T232000
DURATION:PT00H00M00S
SUMMARY:[DEADLINE] Βρίσκω τα είδη σύνδεσης
DESCRIPTION:(deadline: 2024-09-28 23:20:00)
BEGIN:VALARM
TRIGGER:-PT24H
DURATION:PT10H
ACTION:DISPLAY
DESCRIPTION:DEADLINE REMINDER for Βρίσκω τα είδη σύνδεσης
END:VALARM
END:VEVENT
END:VCALENDAR
