BEGIN:VCALENDAR
VERSION:2.0
BEGIN:VEVENT
DTSTART:20260422T032407
DURATION:PT00H00M00S
SUMMARY:[DEADLINE] Ψάξε στο διαδίκτυο
DESCRIPTION:
BEGIN:VALARM
TRIGGER:-PT24H
DURATION:PT10H
ACTION:DISPLAY
DESCRIPTION:DEADLINE REMINDER for Ψάξε στο διαδίκτυο
END:VALARM
END:VEVENT
BEGIN:VEVENT
DTSTART:20260422T032407
DURATION:PT00H00M00S
SUMMARY:[DEADLINE] Άσκηση ενότητας διερεύνησης προϋπάρχουσας γνώσης
DESCRIPTION:
BEGIN:VALARM
TRIGGER:-PT24H
DURATION:PT10H
ACTION:DISPLAY
DESCRIPTION:DEADLINE REMINDER for Άσκηση ενότητας διερεύνησης προϋπάρχουσας γνώσης
END:VALARM
END:VEVENT
BEGIN:VEVENT
DTSTART:20260422T032407
DURATION:PT00H00M00S
SUMMARY:[DEADLINE] Εργονομία στον υπολογιστή
DESCRIPTION:
BEGIN:VALARM
TRIGGER:-PT24H
DURATION:PT10H
ACTION:DISPLAY
DESCRIPTION:DEADLINE REMINDER for Εργονομία στον υπολογιστή
END:VALARM
END:VEVENT
END:VCALENDAR
