BEGIN:VCALENDAR
VERSION:2.0
BEGIN:VEVENT
DTSTART:20240922T110000
DURATION:PT00H00M00S
SUMMARY:[DEADLINE] Συμπλήρωσε τα κενά
DESCRIPTION:Βάλε τα άρθρα "Ο', "Η", "Το" μπροστά από τις λέξεις που ταιριάζουν
 
 
(deadline: 2024-09-22 11:00:00)
BEGIN:VALARM
TRIGGER:-PT24H
DURATION:PT10H
ACTION:DISPLAY
DESCRIPTION:DEADLINE REMINDER for Συμπλήρωσε τα κενά
END:VALARM
END:VEVENT
BEGIN:VEVENT
DTSTART:20240922T110000
DURATION:PT00H00M00S
SUMMARY:[DEADLINE] Αρθρα
DESCRIPTION:Ένωσε το άρθρο με το σωστό ουσιαστικό
(deadline: 2024-09-22 11:00:00)
BEGIN:VALARM
TRIGGER:-PT24H
DURATION:PT10H
ACTION:DISPLAY
DESCRIPTION:DEADLINE REMINDER for Αρθρα
END:VALARM
END:VEVENT
BEGIN:VEVENT
DTSTART:20240927T102000
DURATION:PT00H00M00S
SUMMARY:[DEADLINE] Τεστ 1ης ενότητας
DESCRIPTION:(deadline: 2024-09-27 10:20:00)
BEGIN:VALARM
TRIGGER:-PT24H
DURATION:PT10H
ACTION:DISPLAY
DESCRIPTION:DEADLINE REMINDER for Τεστ 1ης ενότητας
END:VALARM
END:VEVENT
END:VCALENDAR
