BEGIN:VCALENDAR
VERSION:2.0
BEGIN:VEVENT
DTSTART:20240426T155500
DURATION:PT00H00M00S
SUMMARY:[DEADLINE] Είναι τα κέντρα κοινότητας αρκετά για να στηρίξουν τις ανάγκες που έχουν οι πρόσφυγες;
DESCRIPTION:(deadline: 2024-04-26 15:55:00)
BEGIN:VALARM
TRIGGER:-PT24H
DURATION:PT10H
ACTION:DISPLAY
DESCRIPTION:DEADLINE REMINDER for Είναι τα κέντρα κοινότητας αρκετά για να στηρίξουν τις ανάγκες που έχουν οι πρόσφυγες;
END:VALARM
END:VEVENT
BEGIN:VEVENT
DTSTART:20240427T154000
DURATION:PT00H00M00S
SUMMARY:[DEADLINE] Αποστέρηση και οικογένειες προσφύγων
DESCRIPTION:(deadline: 2024-04-27 15:40:00)
BEGIN:VALARM
TRIGGER:-PT24H
DURATION:PT10H
ACTION:DISPLAY
DESCRIPTION:DEADLINE REMINDER for Αποστέρηση και οικογένειες προσφύγων
END:VALARM
END:VEVENT
BEGIN:VEVENT
DTSTART:20240508T221000
DURATION:PT00H00M00S
SUMMARY:[DEADLINE] Εργασία διδακτικής ενότητας 1 
DESCRIPTION:Διαβάστε την θεωρία της πρώτης ενότητας και μελετήστε τις βιβλιογραφίες που δόθηκαν στο τέλος για να γράψατε την δική σας εκτίμηση για την προσφυγική κρίση. Όριο 8.000 λέξεις.
(deadline: 2024-05-08 22:10:00)
BEGIN:VALARM
TRIGGER:-PT24H
DURATION:PT10H
ACTION:DISPLAY
DESCRIPTION:DEADLINE REMINDER for Εργασία διδακτικής ενότητας 1
END:VALARM
END:VEVENT
END:VCALENDAR
