BEGIN:VCALENDAR
VERSION:2.0
BEGIN:VEVENT
DTSTART:20260421T165926
DURATION:PT00H00M00S
SUMMARY:[DEADLINE] Προαιρετική εργασία
DESCRIPTION:
BEGIN:VALARM
TRIGGER:-PT24H
DURATION:PT10H
ACTION:DISPLAY
DESCRIPTION:DEADLINE REMINDER for Προαιρετική εργασία
END:VALARM
END:VEVENT
BEGIN:VEVENT
DTSTART:20260421T165926
DURATION:PT00H00M00S
SUMMARY:[DEADLINE] Άσκηση 1
DESCRIPTION:
BEGIN:VALARM
TRIGGER:-PT24H
DURATION:PT10H
ACTION:DISPLAY
DESCRIPTION:DEADLINE REMINDER for Άσκηση 1
END:VALARM
END:VEVENT
BEGIN:VEVENT
DTSTART:20260421T165926
DURATION:PT00H00M00S
SUMMARY:[DEADLINE] Άσκηση 2
DESCRIPTION:
BEGIN:VALARM
TRIGGER:-PT24H
DURATION:PT10H
ACTION:DISPLAY
DESCRIPTION:DEADLINE REMINDER for Άσκηση 2
END:VALARM
END:VEVENT
END:VCALENDAR
