BEGIN:VCALENDAR
VERSION:2.0
BEGIN:VEVENT
DTSTART:20260421T153221
DURATION:PT00H00M00S
SUMMARY:[DEADLINE] test
DESCRIPTION:
BEGIN:VALARM
TRIGGER:-PT24H
DURATION:PT10H
ACTION:DISPLAY
DESCRIPTION:DEADLINE REMINDER for test
END:VALARM
END:VEVENT
BEGIN:VEVENT
DTSTART:20260421T153221
DURATION:PT00H00M00S
SUMMARY:[DEADLINE] test2
DESCRIPTION:
BEGIN:VALARM
TRIGGER:-PT24H
DURATION:PT10H
ACTION:DISPLAY
DESCRIPTION:DEADLINE REMINDER for test2
END:VALARM
END:VEVENT
BEGIN:VEVENT
DTSTART:20230617T110000
DURATION:PT00H00M00S
SUMMARY:[DEADLINE] Hello World
DESCRIPTION:Ανεβαστε το αρχείο σας
(deadline: 2023-06-17 11:00:00)
BEGIN:VALARM
TRIGGER:-PT24H
DURATION:PT10H
ACTION:DISPLAY
DESCRIPTION:DEADLINE REMINDER for Hello World
END:VALARM
END:VEVENT
END:VCALENDAR
