BEGIN:VCALENDAR
VERSION:2.0
BEGIN:VEVENT
DTSTART:20260421T133212
DURATION:PT00H00M00S
SUMMARY:[DEADLINE] Τα γεωγραφικά διαμερίσματα της Ελλάδας
DESCRIPTION:
BEGIN:VALARM
TRIGGER:-PT24H
DURATION:PT10H
ACTION:DISPLAY
DESCRIPTION:DEADLINE REMINDER for Τα γεωγραφικά διαμερίσματα της Ελλάδας
END:VALARM
END:VEVENT
END:VCALENDAR
