BEGIN:VCALENDAR
VERSION:2.0
BEGIN:VEVENT
DTSTART:20260421T173936
DURATION:PT00H00M00S
SUMMARY:[DEADLINE] Μουσική
DESCRIPTION:
BEGIN:VALARM
TRIGGER:-PT24H
DURATION:PT10H
ACTION:DISPLAY
DESCRIPTION:DEADLINE REMINDER for Μουσική
END:VALARM
END:VEVENT
BEGIN:VEVENT
DTSTART:20260421T173936
DURATION:PT00H00M00S
SUMMARY:[DEADLINE] Μουσική (Αντίγραφο)
DESCRIPTION:
BEGIN:VALARM
TRIGGER:-PT24H
DURATION:PT10H
ACTION:DISPLAY
DESCRIPTION:DEADLINE REMINDER for Μουσική (Αντίγραφο)
END:VALARM
END:VEVENT
END:VCALENDAR
