BEGIN:VCALENDAR
VERSION:2.0
BEGIN:VEVENT
DTSTART:20260423T132418
DURATION:PT00H00M00S
SUMMARY:[DEADLINE] ΕΞΟΠΛΙΣΜΟΣ ΟΡΕΙΒΑΣΙΑΣ
DESCRIPTION:
BEGIN:VALARM
TRIGGER:-PT24H
DURATION:PT10H
ACTION:DISPLAY
DESCRIPTION:DEADLINE REMINDER for ΕΞΟΠΛΙΣΜΟΣ ΟΡΕΙΒΑΣΙΑΣ
END:VALARM
END:VEVENT
BEGIN:VEVENT
DTSTART:20230428T183500
DURATION:PT00H00M00S
SUMMARY:[DEADLINE] ΥΠΟΛΟΓΙΣΜΟΣ ΜΗΚΟΥΣ ΣΩΛΗΝΩΣΕΩΝ ΕΝΔΟΔΑΠΕΔΙΑΣ ΘΕΡΜΑΝΣΗΣ
DESCRIPTION:Η ΑΣΚΗΣΗ ΑΥΤΗ ΣΧΕΤΙΖΕΤΑΙ ΜΕ ΤΟΝ ΥΠΟΛΟΓΙΣΜΟ ΤΟΥ ΜΗΚΟΥΣ ΤΩΝ ΣΩΛΗΝΩΣΕΩΝ ΣΕ ΜΙΑ ΕΓΚΑΤΑΣΤΑΣΗ ΕΝΔΟΔΑΠΕΔΙΑΣ ΘΕΡΜΑΝΣΗΣ
(deadline: 2023-04-28 18:35:00)
BEGIN:VALARM
TRIGGER:-PT24H
DURATION:PT10H
ACTION:DISPLAY
DESCRIPTION:DEADLINE REMINDER for ΥΠΟΛΟΓΙΣΜΟΣ ΜΗΚΟΥΣ ΣΩΛΗΝΩΣΕΩΝ ΕΝΔΟΔΑΠΕΔΙΑΣ ΘΕΡΜΑΝΣΗΣ
END:VALARM
END:VEVENT
END:VCALENDAR
