BEGIN:VCALENDAR
VERSION:2.0
BEGIN:VEVENT
DTSTART:20260422T062551
DURATION:PT00H00M00S
SUMMARY:[DEADLINE] Περιγράφω με λίγα λόγια τις λειτουργίες των ζωντανών οργανισμών
DESCRIPTION:
BEGIN:VALARM
TRIGGER:-PT24H
DURATION:PT10H
ACTION:DISPLAY
DESCRIPTION:DEADLINE REMINDER for Περιγράφω με λίγα λόγια τις λειτουργίες των ζωντανών οργανισμών
END:VALARM
END:VEVENT
BEGIN:VEVENT
DTSTART:20260422T062551
DURATION:PT00H00M00S
SUMMARY:[DEADLINE] ΑΣΚΗΣΗ 1. ΣΥΜΠΛΗΡΩΣΗ ΚΕΝΩΝ
DESCRIPTION:
BEGIN:VALARM
TRIGGER:-PT24H
DURATION:PT10H
ACTION:DISPLAY
DESCRIPTION:DEADLINE REMINDER for ΑΣΚΗΣΗ 1. ΣΥΜΠΛΗΡΩΣΗ ΚΕΝΩΝ
END:VALARM
END:VEVENT
BEGIN:VEVENT
DTSTART:20260422T062551
DURATION:PT00H00M00S
SUMMARY:[DEADLINE] ΑΣΚΗΣΗ 2.ΠΟΛΛΑΠΛΗΣ ΕΠΙΛΟΓΗΣ
DESCRIPTION:
BEGIN:VALARM
TRIGGER:-PT24H
DURATION:PT10H
ACTION:DISPLAY
DESCRIPTION:DEADLINE REMINDER for ΑΣΚΗΣΗ 2.ΠΟΛΛΑΠΛΗΣ ΕΠΙΛΟΓΗΣ
END:VALARM
END:VEVENT
BEGIN:VEVENT
DTSTART:20260422T062551
DURATION:PT00H00M00S
SUMMARY:[DEADLINE] ΑΣΚΗΣΗ 4. ΛΥΝΩ ΤΟ ΣΤΑΥΡΟΛΕΞΟ
DESCRIPTION:
BEGIN:VALARM
TRIGGER:-PT24H
DURATION:PT10H
ACTION:DISPLAY
DESCRIPTION:DEADLINE REMINDER for ΑΣΚΗΣΗ 4. ΛΥΝΩ ΤΟ ΣΤΑΥΡΟΛΕΞΟ
END:VALARM
END:VEVENT
END:VCALENDAR
