BEGIN:VCALENDAR
VERSION:2.0
BEGIN:VEVENT
DTSTART:20260421T200515
DURATION:PT00H00M00S
SUMMARY:[DEADLINE] ΣΩΣΤΟ Ή ΛΑΘΟΣ
DESCRIPTION:
BEGIN:VALARM
TRIGGER:-PT24H
DURATION:PT10H
ACTION:DISPLAY
DESCRIPTION:DEADLINE REMINDER for ΣΩΣΤΟ Ή ΛΑΘΟΣ
END:VALARM
END:VEVENT
BEGIN:VEVENT
DTSTART:20260421T200515
DURATION:PT00H00M00S
SUMMARY:[DEADLINE] ΣΥΜΠΛΗΡΩΣΕ ΤΑ ΚΕΝΑ ΜΕ ΤΙΣ ΛΕΞΕΙΣ ΠΟΥ ΛΕΙΠΟΥΝ.
DESCRIPTION:
BEGIN:VALARM
TRIGGER:-PT24H
DURATION:PT10H
ACTION:DISPLAY
DESCRIPTION:DEADLINE REMINDER for ΣΥΜΠΛΗΡΩΣΕ ΤΑ ΚΕΝΑ ΜΕ ΤΙΣ ΛΕΞΕΙΣ ΠΟΥ ΛΕΙΠΟΥΝ.
END:VALARM
END:VEVENT
BEGIN:VEVENT
DTSTART:20260421T200515
DURATION:PT00H00M00S
SUMMARY:[DEADLINE] ΓΡΑΨΕ ΤΗΝ ΑΠΟΨΗ ΣΟΥ.
DESCRIPTION:
BEGIN:VALARM
TRIGGER:-PT24H
DURATION:PT10H
ACTION:DISPLAY
DESCRIPTION:DEADLINE REMINDER for ΓΡΑΨΕ ΤΗΝ ΑΠΟΨΗ ΣΟΥ.
END:VALARM
END:VEVENT
BEGIN:VEVENT
DTSTART:20260421T200515
DURATION:PT00H00M00S
SUMMARY:[DEADLINE] ΩΡΑ ΓΙΑ ΣΤΑΥΡΟΛΕΞΟ 1.
DESCRIPTION:
BEGIN:VALARM
TRIGGER:-PT24H
DURATION:PT10H
ACTION:DISPLAY
DESCRIPTION:DEADLINE REMINDER for ΩΡΑ ΓΙΑ ΣΤΑΥΡΟΛΕΞΟ 1.
END:VALARM
END:VEVENT
BEGIN:VEVENT
DTSTART:20260421T200515
DURATION:PT00H00M00S
SUMMARY:[DEADLINE] ΩΡΑ ΓΙΑ ΣΤΑΥΡΟΛΕΞΟ 2.
DESCRIPTION:
BEGIN:VALARM
TRIGGER:-PT24H
DURATION:PT10H
ACTION:DISPLAY
DESCRIPTION:DEADLINE REMINDER for ΩΡΑ ΓΙΑ ΣΤΑΥΡΟΛΕΞΟ 2.
END:VALARM
END:VEVENT
BEGIN:VEVENT
DTSTART:20260421T200515
DURATION:PT00H00M00S
SUMMARY:[DEADLINE] ΠΟΙΑ ΕΙΝΑΙ Η ΑΓΑΠΗΜΕΝΗ ΣΟΥ ΕΠΟΧΗ; (ΠΡΟΑΙΡΕΤΙΚΟ)
DESCRIPTION:
BEGIN:VALARM
TRIGGER:-PT24H
DURATION:PT10H
ACTION:DISPLAY
DESCRIPTION:DEADLINE REMINDER for ΠΟΙΑ ΕΙΝΑΙ Η ΑΓΑΠΗΜΕΝΗ ΣΟΥ ΕΠΟΧΗ; (ΠΡΟΑΙΡΕΤΙΚΟ)
END:VALARM
END:VEVENT
END:VCALENDAR
