BEGIN:VCALENDAR
VERSION:2.0
BEGIN:VEVENT
DTSTART:20260423T054938
DURATION:PT00H00M00S
SUMMARY:[DEADLINE] Πλοήγηση σε Ιστοσελίδες
DESCRIPTION:
BEGIN:VALARM
TRIGGER:-PT24H
DURATION:PT10H
ACTION:DISPLAY
DESCRIPTION:DEADLINE REMINDER for Πλοήγηση σε Ιστοσελίδες
END:VALARM
END:VEVENT
BEGIN:VEVENT
DTSTART:20260423T054938
DURATION:PT00H00M00S
SUMMARY:[DEADLINE] Αντιστοίχιση Υπηρεσίας και εφαρμογής (web Apps - Ιστότοποι)
DESCRIPTION:
BEGIN:VALARM
TRIGGER:-PT24H
DURATION:PT10H
ACTION:DISPLAY
DESCRIPTION:DEADLINE REMINDER for Αντιστοίχιση Υπηρεσίας και εφαρμογής (web Apps - Ιστότοποι)
END:VALARM
END:VEVENT
END:VCALENDAR
