BEGIN:VCALENDAR
VERSION:2.0
BEGIN:VEVENT
DTSTART:20260422T044401
DURATION:PT00H00M00S
SUMMARY:[DEADLINE] Εργασία Επεξεργασία κειμένου
DESCRIPTION:
BEGIN:VALARM
TRIGGER:-PT24H
DURATION:PT10H
ACTION:DISPLAY
DESCRIPTION:DEADLINE REMINDER for Εργασία Επεξεργασία κειμένου
END:VALARM
END:VEVENT
BEGIN:VEVENT
DTSTART:20260422T044401
DURATION:PT00H00M00S
SUMMARY:[DEADLINE] Επεξεργασία κειμένου - Συμπλήρωση κενών- Αντιστοίχιση
DESCRIPTION:
BEGIN:VALARM
TRIGGER:-PT24H
DURATION:PT10H
ACTION:DISPLAY
DESCRIPTION:DEADLINE REMINDER for Επεξεργασία κειμένου - Συμπλήρωση κενών- Αντιστοίχιση
END:VALARM
END:VEVENT
END:VCALENDAR
