BEGIN:VCALENDAR
VERSION:2.0
BEGIN:VEVENT
DTSTART:20260422T051103
DURATION:PT00H00M00S
SUMMARY:[DEADLINE] Άσκηση συμπλήρωσης κενών 1ου κεφαλαίου
DESCRIPTION:
BEGIN:VALARM
TRIGGER:-PT24H
DURATION:PT10H
ACTION:DISPLAY
DESCRIPTION:DEADLINE REMINDER for Άσκηση συμπλήρωσης κενών 1ου κεφαλαίου
END:VALARM
END:VEVENT
BEGIN:VEVENT
DTSTART:20260422T051103
DURATION:PT00H00M00S
SUMMARY:[DEADLINE] Άσκηση αντιστοίχησης  1ου κεφαλαίου
DESCRIPTION:
BEGIN:VALARM
TRIGGER:-PT24H
DURATION:PT10H
ACTION:DISPLAY
DESCRIPTION:DEADLINE REMINDER for Άσκηση αντιστοίχησης 1ου κεφαλαίου
END:VALARM
END:VEVENT
END:VCALENDAR
