BEGIN:VCALENDAR
VERSION:2.0
BEGIN:VEVENT
DTSTART:20260421T225407
DURATION:PT00H00M00S
SUMMARY:[DEADLINE] Μπορείς να θυμηθείς τα υλικά που χρησιμοποίησε κάθε ήρωας;
DESCRIPTION:
BEGIN:VALARM
TRIGGER:-PT24H
DURATION:PT10H
ACTION:DISPLAY
DESCRIPTION:DEADLINE REMINDER for Μπορείς να θυμηθείς τα υλικά που χρησιμοποίησε κάθε ήρωας;
END:VALARM
END:VEVENT
BEGIN:VEVENT
DTSTART:20260421T225407
DURATION:PT00H00M00S
SUMMARY:[DEADLINE] 2η Άσκηση: Μπορείς να συνεχίσεις την ιστορία;
DESCRIPTION:
BEGIN:VALARM
TRIGGER:-PT24H
DURATION:PT10H
ACTION:DISPLAY
DESCRIPTION:DEADLINE REMINDER for 2η Άσκηση: Μπορείς να συνεχίσεις την ιστορία;
END:VALARM
END:VEVENT
END:VCALENDAR
