BEGIN:VCALENDAR
VERSION:2.0
BEGIN:VEVENT
DTSTART:20260423T093011
DURATION:PT00H00M00S
SUMMARY:[DEADLINE] Μετά την περιήγηση στο μουσείο!
DESCRIPTION:
BEGIN:VALARM
TRIGGER:-PT24H
DURATION:PT10H
ACTION:DISPLAY
DESCRIPTION:DEADLINE REMINDER for Μετά την περιήγηση στο μουσείο!
END:VALARM
END:VEVENT
END:VCALENDAR
