BEGIN:VCALENDAR
VERSION:2.0
BEGIN:VEVENT
DTSTART:20260423T093246
DURATION:PT00H00M00S
SUMMARY:[DEADLINE] επαναληψη οξεα βασεις
DESCRIPTION:
BEGIN:VALARM
TRIGGER:-PT24H
DURATION:PT10H
ACTION:DISPLAY
DESCRIPTION:DEADLINE REMINDER for επαναληψη οξεα βασεις
END:VALARM
END:VEVENT
BEGIN:VEVENT
DTSTART:20260423T093246
DURATION:PT00H00M00S
SUMMARY:[DEADLINE] Εξουδετερωση
DESCRIPTION:
BEGIN:VALARM
TRIGGER:-PT24H
DURATION:PT10H
ACTION:DISPLAY
DESCRIPTION:DEADLINE REMINDER for Εξουδετερωση
END:VALARM
END:VEVENT
END:VCALENDAR
