BEGIN:VCALENDAR
VERSION:2.0
BEGIN:VEVENT
DTSTART:20260422T083504
DURATION:PT00H00M00S
SUMMARY:[DEADLINE] 1o Bήμα: Χάρτης και ανέβασμα φωτογραφίας
DESCRIPTION:
BEGIN:VALARM
TRIGGER:-PT24H
DURATION:PT10H
ACTION:DISPLAY
DESCRIPTION:DEADLINE REMINDER for 1o Bήμα: Χάρτης και ανέβασμα φωτογραφίας
END:VALARM
END:VEVENT
BEGIN:VEVENT
DTSTART:20260422T083504
DURATION:PT00H00M00S
SUMMARY:[DEADLINE] 2o Βήμα: Βίντεο
DESCRIPTION:
BEGIN:VALARM
TRIGGER:-PT24H
DURATION:PT10H
ACTION:DISPLAY
DESCRIPTION:DEADLINE REMINDER for 2o Βήμα: Βίντεο
END:VALARM
END:VEVENT
BEGIN:VEVENT
DTSTART:20260422T083504
DURATION:PT00H00M00S
SUMMARY:[DEADLINE] 3ο Βήμα: Διαδραστικό βιβλίο και βίντεο
DESCRIPTION:
BEGIN:VALARM
TRIGGER:-PT24H
DURATION:PT10H
ACTION:DISPLAY
DESCRIPTION:DEADLINE REMINDER for 3ο Βήμα: Διαδραστικό βιβλίο και βίντεο
END:VALARM
END:VEVENT
BEGIN:VEVENT
DTSTART:20260422T083504
DURATION:PT00H00M00S
SUMMARY:[DEADLINE] 4ο Βήμα: Διαδραστικός Χάρτης
DESCRIPTION:
BEGIN:VALARM
TRIGGER:-PT24H
DURATION:PT10H
ACTION:DISPLAY
DESCRIPTION:DEADLINE REMINDER for 4ο Βήμα: Διαδραστικός Χάρτης
END:VALARM
END:VEVENT
BEGIN:VEVENT
DTSTART:20260422T083504
DURATION:PT00H00M00S
SUMMARY:[DEADLINE] Σκέφτομαι και γράφω!
DESCRIPTION:
BEGIN:VALARM
TRIGGER:-PT24H
DURATION:PT10H
ACTION:DISPLAY
DESCRIPTION:DEADLINE REMINDER for Σκέφτομαι και γράφω!
END:VALARM
END:VEVENT
BEGIN:VEVENT
DTSTART:20260422T083504
DURATION:PT00H00M00S
SUMMARY:[DEADLINE] Ερωτήσεις πολλαπλής επιλογής
DESCRIPTION:
BEGIN:VALARM
TRIGGER:-PT24H
DURATION:PT10H
ACTION:DISPLAY
DESCRIPTION:DEADLINE REMINDER for Ερωτήσεις πολλαπλής επιλογής
END:VALARM
END:VEVENT
BEGIN:VEVENT
DTSTART:20260422T083504
DURATION:PT00H00M00S
SUMMARY:[DEADLINE] Δραστηριότητα Σωστής Επιλογής
DESCRIPTION:
BEGIN:VALARM
TRIGGER:-PT24H
DURATION:PT10H
ACTION:DISPLAY
DESCRIPTION:DEADLINE REMINDER for Δραστηριότητα Σωστής Επιλογής
END:VALARM
END:VEVENT
END:VCALENDAR
