BEGIN:VCALENDAR
VERSION:2.0
BEGIN:VEVENT
DTSTART:20260423T041506
DURATION:PT00H00M00S
SUMMARY:[DEADLINE] Σύγκριση "Πολιτείας" με δύο ποιήματα του Καβάφη
DESCRIPTION:
BEGIN:VALARM
TRIGGER:-PT24H
DURATION:PT10H
ACTION:DISPLAY
DESCRIPTION:DEADLINE REMINDER for Σύγκριση "Πολιτείας" με δύο ποιήματα του Καβάφη
END:VALARM
END:VEVENT
BEGIN:VEVENT
DTSTART:20260423T041506
DURATION:PT00H00M00S
SUMMARY:[DEADLINE] Συμπλήρωση κενών
DESCRIPTION:
BEGIN:VALARM
TRIGGER:-PT24H
DURATION:PT10H
ACTION:DISPLAY
DESCRIPTION:DEADLINE REMINDER for Συμπλήρωση κενών
END:VALARM
END:VEVENT
BEGIN:VEVENT
DTSTART:20260423T041506
DURATION:PT00H00M00S
SUMMARY:[DEADLINE] Πολλαπλής επιλογής
DESCRIPTION:
BEGIN:VALARM
TRIGGER:-PT24H
DURATION:PT10H
ACTION:DISPLAY
DESCRIPTION:DEADLINE REMINDER for Πολλαπλής επιλογής
END:VALARM
END:VEVENT
BEGIN:VEVENT
DTSTART:20260423T041506
DURATION:PT00H00M00S
SUMMARY:[DEADLINE] Ταίριασμα
DESCRIPTION:
BEGIN:VALARM
TRIGGER:-PT24H
DURATION:PT10H
ACTION:DISPLAY
DESCRIPTION:DEADLINE REMINDER for Ταίριασμα
END:VALARM
END:VEVENT
BEGIN:VEVENT
DTSTART:20260423T041506
DURATION:PT00H00M00S
SUMMARY:[DEADLINE] Ταίριασμα
DESCRIPTION:
BEGIN:VALARM
TRIGGER:-PT24H
DURATION:PT10H
ACTION:DISPLAY
DESCRIPTION:DEADLINE REMINDER for Ταίριασμα
END:VALARM
END:VEVENT
BEGIN:VEVENT
DTSTART:20260423T041506
DURATION:PT00H00M00S
SUMMARY:[DEADLINE] Σωστό - Λάθος
DESCRIPTION:
BEGIN:VALARM
TRIGGER:-PT24H
DURATION:PT10H
ACTION:DISPLAY
DESCRIPTION:DEADLINE REMINDER for Σωστό - Λάθος
END:VALARM
END:VEVENT
END:VCALENDAR
