BEGIN:VCALENDAR
VERSION:2.0
BEGIN:VEVENT
DTSTART:20260422T054252
DURATION:PT00H00M00S
SUMMARY:[DEADLINE] Γράψτε μία παράγραφο με βάση την παρακάτω θεματική πρόταση: Οι περισσότεροι μαθητές στο Γυμνάσιο έχουν πολύ λίγο ελεύθερο χρόνο.
DESCRIPTION:
BEGIN:VALARM
TRIGGER:-PT24H
DURATION:PT10H
ACTION:DISPLAY
DESCRIPTION:DEADLINE REMINDER for Γράψτε μία παράγραφο με βάση την παρακάτω θεματική πρόταση: Οι περισσότεροι μαθητές στο Γυμνάσιο έχουν πολύ λίγο ελεύθερο χρόνο.
END:VALARM
END:VEVENT
BEGIN:VEVENT
DTSTART:20260422T054252
DURATION:PT00H00M00S
SUMMARY:[DEADLINE] Άσκηση 1η (Τα δομικά μέρη της παραγράφου)
DESCRIPTION:
BEGIN:VALARM
TRIGGER:-PT24H
DURATION:PT10H
ACTION:DISPLAY
DESCRIPTION:DEADLINE REMINDER for Άσκηση 1η (Τα δομικά μέρη της παραγράφου)
END:VALARM
END:VEVENT
BEGIN:VEVENT
DTSTART:20260422T054252
DURATION:PT00H00M00S
SUMMARY:[DEADLINE] Άσκηση 2η (Τα δομικά μέρη της παραγράφου)
DESCRIPTION:
BEGIN:VALARM
TRIGGER:-PT24H
DURATION:PT10H
ACTION:DISPLAY
DESCRIPTION:DEADLINE REMINDER for Άσκηση 2η (Τα δομικά μέρη της παραγράφου)
END:VALARM
END:VEVENT
END:VCALENDAR
