BEGIN:VCALENDAR
VERSION:2.0
BEGIN:VEVENT
DTSTART:20260422T172710
DURATION:PT00H00M00S
SUMMARY:[DEADLINE] Δραστηριότητα 1
DESCRIPTION:
BEGIN:VALARM
TRIGGER:-PT24H
DURATION:PT10H
ACTION:DISPLAY
DESCRIPTION:DEADLINE REMINDER for Δραστηριότητα 1
END:VALARM
END:VEVENT
BEGIN:VEVENT
DTSTART:20260422T172710
DURATION:PT00H00M00S
SUMMARY:[DEADLINE] Δραστηριότητα 2
DESCRIPTION:
BEGIN:VALARM
TRIGGER:-PT24H
DURATION:PT10H
ACTION:DISPLAY
DESCRIPTION:DEADLINE REMINDER for Δραστηριότητα 2
END:VALARM
END:VEVENT
BEGIN:VEVENT
DTSTART:20260422T172710
DURATION:PT00H00M00S
SUMMARY:[DEADLINE] Δραστηριότητα 3
DESCRIPTION:
BEGIN:VALARM
TRIGGER:-PT24H
DURATION:PT10H
ACTION:DISPLAY
DESCRIPTION:DEADLINE REMINDER for Δραστηριότητα 3
END:VALARM
END:VEVENT
BEGIN:VEVENT
DTSTART:20260422T172710
DURATION:PT00H00M00S
SUMMARY:[DEADLINE] Δραστηριότητα 4
DESCRIPTION:
BEGIN:VALARM
TRIGGER:-PT24H
DURATION:PT10H
ACTION:DISPLAY
DESCRIPTION:DEADLINE REMINDER for Δραστηριότητα 4
END:VALARM
END:VEVENT
BEGIN:VEVENT
DTSTART:20260422T172710
DURATION:PT00H00M00S
SUMMARY:[DEADLINE] Ερωτήσεις πολλαπλής επιλογής
DESCRIPTION:
BEGIN:VALARM
TRIGGER:-PT24H
DURATION:PT10H
ACTION:DISPLAY
DESCRIPTION:DEADLINE REMINDER for Ερωτήσεις πολλαπλής επιλογής
END:VALARM
END:VEVENT
BEGIN:VEVENT
DTSTART:20260422T172710
DURATION:PT00H00M00S
SUMMARY:[DEADLINE] Σωστό-Λάθος
DESCRIPTION:
BEGIN:VALARM
TRIGGER:-PT24H
DURATION:PT10H
ACTION:DISPLAY
DESCRIPTION:DEADLINE REMINDER for Σωστό-Λάθος
END:VALARM
END:VEVENT
BEGIN:VEVENT
DTSTART:20260422T172710
DURATION:PT00H00M00S
SUMMARY:[DEADLINE] Αντιστοίχιση
DESCRIPTION:
BEGIN:VALARM
TRIGGER:-PT24H
DURATION:PT10H
ACTION:DISPLAY
DESCRIPTION:DEADLINE REMINDER for Αντιστοίχιση
END:VALARM
END:VEVENT
BEGIN:VEVENT
DTSTART:20260422T172710
DURATION:PT00H00M00S
SUMMARY:[DEADLINE] Ερώτηση ελεύθερου κειμένου
DESCRIPTION:
BEGIN:VALARM
TRIGGER:-PT24H
DURATION:PT10H
ACTION:DISPLAY
DESCRIPTION:DEADLINE REMINDER for Ερώτηση ελεύθερου κειμένου
END:VALARM
END:VEVENT
END:VCALENDAR
