BEGIN:VCALENDAR
VERSION:2.0
BEGIN:VEVENT
DTSTART:20260422T134849
DURATION:PT00H00M00S
SUMMARY:[DEADLINE] Το πιο γλυκό ψωμί - Αφόρμηση (υποχρεωτική) Για να ανεβάσετε τη φωτογραφία πατήστε εδώ.
DESCRIPTION:
BEGIN:VALARM
TRIGGER:-PT24H
DURATION:PT10H
ACTION:DISPLAY
DESCRIPTION:DEADLINE REMINDER for Το πιο γλυκό ψωμί - Αφόρμηση (υποχρεωτική) Για να ανεβάσετε τη φωτογραφία πατήστε εδώ.
END:VALARM
END:VEVENT
BEGIN:VEVENT
DTSTART:20260422T134849
DURATION:PT00H00M00S
SUMMARY:[DEADLINE] Ποιες λέξεις σου έρχονται στο μυαλό όταν ακούς τη λέξη ψωμί;
DESCRIPTION:
BEGIN:VALARM
TRIGGER:-PT24H
DURATION:PT10H
ACTION:DISPLAY
DESCRIPTION:DEADLINE REMINDER for Ποιες λέξεις σου έρχονται στο μυαλό όταν ακούς τη λέξη ψωμί;
END:VALARM
END:VEVENT
BEGIN:VEVENT
DTSTART:20260422T134849
DURATION:PT00H00M00S
SUMMARY:[DEADLINE] Από το σπόρο στο ψωμί
DESCRIPTION:
BEGIN:VALARM
TRIGGER:-PT24H
DURATION:PT10H
ACTION:DISPLAY
DESCRIPTION:DEADLINE REMINDER for Από το σπόρο στο ψωμί
END:VALARM
END:VEVENT
BEGIN:VEVENT
DTSTART:20260422T134849
DURATION:PT00H00M00S
SUMMARY:[DEADLINE] Το πιο γλυκό ψωμί_Αξιολόγηση (υποχρεωτική)
DESCRIPTION:
BEGIN:VALARM
TRIGGER:-PT24H
DURATION:PT10H
ACTION:DISPLAY
DESCRIPTION:DEADLINE REMINDER for Το πιο γλυκό ψωμί_Αξιολόγηση (υποχρεωτική)
END:VALARM
END:VEVENT
BEGIN:VEVENT
DTSTART:20260422T134849
DURATION:PT00H00M00S
SUMMARY:[DEADLINE] Το πιο γλυκό ψωμί - Αξιολόγηση (υποχρεωτική) Για να ανεβάσετε τη φωτογραφία του 1ου Φυλλαδίου πατήστε εδώ.
DESCRIPTION:
BEGIN:VALARM
TRIGGER:-PT24H
DURATION:PT10H
ACTION:DISPLAY
DESCRIPTION:DEADLINE REMINDER for Το πιο γλυκό ψωμί - Αξιολόγηση (υποχρεωτική) Για να ανεβάσετε τη φωτογραφία του 1ου Φυλλαδίου πατήστε εδώ.
END:VALARM
END:VEVENT
BEGIN:VEVENT
DTSTART:20260422T134849
DURATION:PT00H00M00S
SUMMARY:[DEADLINE] Το πιο γλυκό ψωμί _ Αξιολόγηση (υποχρεωτική). 2ο Φύλλο Εργασίας. Πατήστε εδώ.
DESCRIPTION:
BEGIN:VALARM
TRIGGER:-PT24H
DURATION:PT10H
ACTION:DISPLAY
DESCRIPTION:DEADLINE REMINDER for Το πιο γλυκό ψωμί _ Αξιολόγηση (υποχρεωτική). 2ο Φύλλο Εργασίας. Πατήστε εδώ.
END:VALARM
END:VEVENT
BEGIN:VEVENT
DTSTART:20260422T134849
DURATION:PT00H00M00S
SUMMARY:[DEADLINE] Το πιο γλυκό ψωμί_Διδασκαλία
DESCRIPTION:
BEGIN:VALARM
TRIGGER:-PT24H
DURATION:PT10H
ACTION:DISPLAY
DESCRIPTION:DEADLINE REMINDER for Το πιο γλυκό ψωμί_Διδασκαλία
END:VALARM
END:VEVENT
BEGIN:VEVENT
DTSTART:20260422T134849
DURATION:PT00H00M00S
SUMMARY:[DEADLINE] Το πιο γλυκό ψωμί _ Διδασκαλία (υποχρεωτική). Πατήστε εδώ
DESCRIPTION:
BEGIN:VALARM
TRIGGER:-PT24H
DURATION:PT10H
ACTION:DISPLAY
DESCRIPTION:DEADLINE REMINDER for Το πιο γλυκό ψωμί _ Διδασκαλία (υποχρεωτική). Πατήστε εδώ
END:VALARM
END:VEVENT
BEGIN:VEVENT
DTSTART:20260422T134849
DURATION:PT00H00M00S
SUMMARY:[DEADLINE] Το πιο γλυκό ψωμί _ Αξιολόγηση (υποχρεωτική) Παζλ
DESCRIPTION:
BEGIN:VALARM
TRIGGER:-PT24H
DURATION:PT10H
ACTION:DISPLAY
DESCRIPTION:DEADLINE REMINDER for Το πιο γλυκό ψωμί _ Αξιολόγηση (υποχρεωτική) Παζλ
END:VALARM
END:VEVENT
BEGIN:VEVENT
DTSTART:20260422T134849
DURATION:PT00H00M00S
SUMMARY:[DEADLINE] Το πιο γλυκό ψωμί _ Διδασκαλία (υποχρεωτική). Πατήστε εδώ.
DESCRIPTION:
BEGIN:VALARM
TRIGGER:-PT24H
DURATION:PT10H
ACTION:DISPLAY
DESCRIPTION:DEADLINE REMINDER for Το πιο γλυκό ψωμί _ Διδασκαλία (υποχρεωτική). Πατήστε εδώ.
END:VALARM
END:VEVENT
BEGIN:VEVENT
DTSTART:20260422T134849
DURATION:PT00H00M00S
SUMMARY:[DEADLINE] Το πιο γλυκό ψωμί _ Διδασκαλία (υποχρεωτική). Πατήστε εδώ
DESCRIPTION:
BEGIN:VALARM
TRIGGER:-PT24H
DURATION:PT10H
ACTION:DISPLAY
DESCRIPTION:DEADLINE REMINDER for Το πιο γλυκό ψωμί _ Διδασκαλία (υποχρεωτική). Πατήστε εδώ
END:VALARM
END:VEVENT
BEGIN:VEVENT
DTSTART:20260422T134849
DURATION:PT00H00M00S
SUMMARY:[DEADLINE] Το πιο γλυκό ψωμί - Αξιολόγηση (υποχρεωτική) Για να ανεβάσετε τη φωτογραφία του 2ου Φυλλαδίου πατήστε εδώ.
DESCRIPTION:
BEGIN:VALARM
TRIGGER:-PT24H
DURATION:PT10H
ACTION:DISPLAY
DESCRIPTION:DEADLINE REMINDER for Το πιο γλυκό ψωμί - Αξιολόγηση (υποχρεωτική) Για να ανεβάσετε τη φωτογραφία του 2ου Φυλλαδίου πατήστε εδώ.
END:VALARM
END:VEVENT
BEGIN:VEVENT
DTSTART:20260422T134849
DURATION:PT00H00M00S
SUMMARY:[DEADLINE] Το πιο γλυκό ψωμί _ Εμπέδωση (Συνταγή ψωμιού για τον βασιλιά.)
DESCRIPTION:
BEGIN:VALARM
TRIGGER:-PT24H
DURATION:PT10H
ACTION:DISPLAY
DESCRIPTION:DEADLINE REMINDER for Το πιο γλυκό ψωμί _ Εμπέδωση (Συνταγή ψωμιού για τον βασιλιά.)
END:VALARM
END:VEVENT
BEGIN:VEVENT
DTSTART:20260422T134849
DURATION:PT00H00M00S
SUMMARY:[DEADLINE] Ποιες λέξεις σου έρχονται στο μυαλό όταν ακούς τη λέξη ψωμί; Πληκτρολόγησέ τις παρακάτω.
DESCRIPTION:
BEGIN:VALARM
TRIGGER:-PT24H
DURATION:PT10H
ACTION:DISPLAY
DESCRIPTION:DEADLINE REMINDER for Ποιες λέξεις σου έρχονται στο μυαλό όταν ακούς τη λέξη ψωμί; Πληκτρολόγησέ τις παρακάτω.
END:VALARM
END:VEVENT
BEGIN:VEVENT
DTSTART:20260422T134849
DURATION:PT00H00M00S
SUMMARY:[DEADLINE] Περίληψη
DESCRIPTION:
BEGIN:VALARM
TRIGGER:-PT24H
DURATION:PT10H
ACTION:DISPLAY
DESCRIPTION:DEADLINE REMINDER for Περίληψη
END:VALARM
END:VEVENT
BEGIN:VEVENT
DTSTART:20260422T134849
DURATION:PT00H00M00S
SUMMARY:[DEADLINE] Συμπλήρωσε τα κενά _ Εμπέδωση _ Από το σπόρο... στο ψωμί.
DESCRIPTION:
BEGIN:VALARM
TRIGGER:-PT24H
DURATION:PT10H
ACTION:DISPLAY
DESCRIPTION:DEADLINE REMINDER for Συμπλήρωσε τα κενά _ Εμπέδωση _ Από το σπόρο... στο ψωμί.
END:VALARM
END:VEVENT
BEGIN:VEVENT
DTSTART:20260422T134849
DURATION:PT00H00M00S
SUMMARY:[DEADLINE] Το πιο γλυκό ψωμί _ Εμπέδωση (υποχρεωτική). Πατήστε εδώ.
DESCRIPTION:
BEGIN:VALARM
TRIGGER:-PT24H
DURATION:PT10H
ACTION:DISPLAY
DESCRIPTION:DEADLINE REMINDER for Το πιο γλυκό ψωμί _ Εμπέδωση (υποχρεωτική). Πατήστε εδώ.
END:VALARM
END:VEVENT
BEGIN:VEVENT
DTSTART:20260422T134849
DURATION:PT00H00M00S
SUMMARY:[DEADLINE] Το πιο γλυκό ψωμί _ Αξιολόγηση (υποχρεωτική) 2ο Φύλλο Εργασίας
DESCRIPTION:
BEGIN:VALARM
TRIGGER:-PT24H
DURATION:PT10H
ACTION:DISPLAY
DESCRIPTION:DEADLINE REMINDER for Το πιο γλυκό ψωμί _ Αξιολόγηση (υποχρεωτική) 2ο Φύλλο Εργασίας
END:VALARM
END:VEVENT
BEGIN:VEVENT
DTSTART:20260422T134849
DURATION:PT00H00M00S
SUMMARY:[DEADLINE] Το πιο γλυκό ψωμί _ Διερεύνηση προϋπάρχουσας γνώσης (υποχρεωτική)
DESCRIPTION:
BEGIN:VALARM
TRIGGER:-PT24H
DURATION:PT10H
ACTION:DISPLAY
DESCRIPTION:DEADLINE REMINDER for Το πιο γλυκό ψωμί _ Διερεύνηση προϋπάρχουσας γνώσης (υποχρεωτική)
END:VALARM
END:VEVENT
END:VCALENDAR
