BEGIN:VCALENDAR
VERSION:2.0
BEGIN:VEVENT
DTSTART:20260422T054309
DURATION:PT00H00M00S
SUMMARY:[DEADLINE] Σωστό/Λάθος
DESCRIPTION:
BEGIN:VALARM
TRIGGER:-PT24H
DURATION:PT10H
ACTION:DISPLAY
DESCRIPTION:DEADLINE REMINDER for Σωστό/Λάθος
END:VALARM
END:VEVENT
BEGIN:VEVENT
DTSTART:20260422T054309
DURATION:PT00H00M00S
SUMMARY:[DEADLINE] Τι είναι αυτό το μικρό εξάρτημα;
DESCRIPTION:
BEGIN:VALARM
TRIGGER:-PT24H
DURATION:PT10H
ACTION:DISPLAY
DESCRIPTION:DEADLINE REMINDER for Τι είναι αυτό το μικρό εξάρτημα;
END:VALARM
END:VEVENT
BEGIN:VEVENT
DTSTART:20260422T054309
DURATION:PT00H00M00S
SUMMARY:[DEADLINE] Ηλεκτρισμός-μαγνητισμός
DESCRIPTION:
BEGIN:VALARM
TRIGGER:-PT24H
DURATION:PT10H
ACTION:DISPLAY
DESCRIPTION:DEADLINE REMINDER for Ηλεκτρισμός-μαγνητισμός
END:VALARM
END:VEVENT
BEGIN:VEVENT
DTSTART:20260422T054309
DURATION:PT00H00M00S
SUMMARY:[DEADLINE] Παρατηρήσεις πειράματος εξομοίωσης
DESCRIPTION:
BEGIN:VALARM
TRIGGER:-PT24H
DURATION:PT10H
ACTION:DISPLAY
DESCRIPTION:DEADLINE REMINDER for Παρατηρήσεις πειράματος εξομοίωσης
END:VALARM
END:VEVENT
BEGIN:VEVENT
DTSTART:20260422T054309
DURATION:PT00H00M00S
SUMMARY:[DEADLINE] Εργοστάσια ΔΕΗ
DESCRIPTION:
BEGIN:VALARM
TRIGGER:-PT24H
DURATION:PT10H
ACTION:DISPLAY
DESCRIPTION:DEADLINE REMINDER for Εργοστάσια ΔΕΗ
END:VALARM
END:VEVENT
BEGIN:VEVENT
DTSTART:20260422T054309
DURATION:PT00H00M00S
SUMMARY:[DEADLINE] Λειτουργία ατμοηλεκτρικού εργοστασίου
DESCRIPTION:
BEGIN:VALARM
TRIGGER:-PT24H
DURATION:PT10H
ACTION:DISPLAY
DESCRIPTION:DEADLINE REMINDER for Λειτουργία ατμοηλεκτρικού εργοστασίου
END:VALARM
END:VEVENT
BEGIN:VEVENT
DTSTART:20260422T054309
DURATION:PT00H00M00S
SUMMARY:[DEADLINE] Λειτουργία υδροηλεκτρικού εργοστασίου
DESCRIPTION:
BEGIN:VALARM
TRIGGER:-PT24H
DURATION:PT10H
ACTION:DISPLAY
DESCRIPTION:DEADLINE REMINDER for Λειτουργία υδροηλεκτρικού εργοστασίου
END:VALARM
END:VEVENT
BEGIN:VEVENT
DTSTART:20260422T054309
DURATION:PT00H00M00S
SUMMARY:[DEADLINE] Κοινό σημείο εργοστασίων ΔΕΗ
DESCRIPTION:
BEGIN:VALARM
TRIGGER:-PT24H
DURATION:PT10H
ACTION:DISPLAY
DESCRIPTION:DEADLINE REMINDER for Κοινό σημείο εργοστασίων ΔΕΗ
END:VALARM
END:VEVENT
BEGIN:VEVENT
DTSTART:20260422T054309
DURATION:PT00H00M00S
SUMMARY:[DEADLINE] Ολοκλήρωσε το συμπέρασμα
DESCRIPTION:
BEGIN:VALARM
TRIGGER:-PT24H
DURATION:PT10H
ACTION:DISPLAY
DESCRIPTION:DEADLINE REMINDER for Ολοκλήρωσε το συμπέρασμα
END:VALARM
END:VEVENT
BEGIN:VEVENT
DTSTART:20230211T083500
DURATION:PT00H00M00S
SUMMARY:[COURSE] Παγκόσμια ημέρα Γυναικών στην Επιστήμη
DESCRIPTION:
END:VEVENT
BEGIN:VEVENT
DTSTART:20230605T084000
DURATION:PT00H00M00S
SUMMARY:[COURSE] Παγκόσμια ημέρα περιβάλλοντος
DESCRIPTION:
END:VEVENT
END:VCALENDAR
