BEGIN:VCALENDAR
VERSION:2.0
BEGIN:VEVENT
DTSTART:20260421T133244
DURATION:PT00H00M00S
SUMMARY:[DEADLINE] Συμπλήρωση Κενών
DESCRIPTION:
BEGIN:VALARM
TRIGGER:-PT24H
DURATION:PT10H
ACTION:DISPLAY
DESCRIPTION:DEADLINE REMINDER for Συμπλήρωση Κενών
END:VALARM
END:VEVENT
BEGIN:VEVENT
DTSTART:20260421T133244
DURATION:PT00H00M00S
SUMMARY:[DEADLINE] Σωστό/Λάθος
DESCRIPTION:
BEGIN:VALARM
TRIGGER:-PT24H
DURATION:PT10H
ACTION:DISPLAY
DESCRIPTION:DEADLINE REMINDER for Σωστό/Λάθος
END:VALARM
END:VEVENT
END:VCALENDAR
