BEGIN:VCALENDAR
VERSION:2.0
BEGIN:VEVENT
DTSTART:20260422T130442
DURATION:PT00H00M00S
SUMMARY:[DEADLINE] Άσκηση 1 (ο καθένας απαντά μόνος του)
DESCRIPTION:
BEGIN:VALARM
TRIGGER:-PT24H
DURATION:PT10H
ACTION:DISPLAY
DESCRIPTION:DEADLINE REMINDER for Άσκηση 1 (ο καθένας απαντά μόνος του)
END:VALARM
END:VEVENT
BEGIN:VEVENT
DTSTART:20260422T130442
DURATION:PT00H00M00S
SUMMARY:[DEADLINE] Άσκηση 2 (ο καθένας την κάνει μόνος του)
DESCRIPTION:
BEGIN:VALARM
TRIGGER:-PT24H
DURATION:PT10H
ACTION:DISPLAY
DESCRIPTION:DEADLINE REMINDER for Άσκηση 2 (ο καθένας την κάνει μόνος του)
END:VALARM
END:VEVENT
END:VCALENDAR
