BEGIN:VCALENDAR
VERSION:2.0
BEGIN:VEVENT
DTSTART:20260422T172539
DURATION:PT00H00M00S
SUMMARY:[DEADLINE] MISSING ARTICLES
DESCRIPTION:
BEGIN:VALARM
TRIGGER:-PT24H
DURATION:PT10H
ACTION:DISPLAY
DESCRIPTION:DEADLINE REMINDER for MISSING ARTICLES
END:VALARM
END:VEVENT
BEGIN:VEVENT
DTSTART:20260422T172539
DURATION:PT00H00M00S
SUMMARY:[DEADLINE] mix and match
DESCRIPTION:
BEGIN:VALARM
TRIGGER:-PT24H
DURATION:PT10H
ACTION:DISPLAY
DESCRIPTION:DEADLINE REMINDER for mix and match
END:VALARM
END:VEVENT
BEGIN:VEVENT
DTSTART:20260422T172539
DURATION:PT00H00M00S
SUMMARY:[DEADLINE] CORRECT OR FALSE
DESCRIPTION:
BEGIN:VALARM
TRIGGER:-PT24H
DURATION:PT10H
ACTION:DISPLAY
DESCRIPTION:DEADLINE REMINDER for CORRECT OR FALSE
END:VALARM
END:VEVENT
END:VCALENDAR
