BEGIN:VCALENDAR
VERSION:2.0
BEGIN:VEVENT
DTSTART:20260421T192848
DURATION:PT00H00M00S
SUMMARY:[DEADLINE] Συντεταγμένες σημείων
DESCRIPTION:
BEGIN:VALARM
TRIGGER:-PT24H
DURATION:PT10H
ACTION:DISPLAY
DESCRIPTION:DEADLINE REMINDER for Συντεταγμένες σημείων
END:VALARM
END:VEVENT
BEGIN:VEVENT
DTSTART:20210129T224500
DURATION:PT00H00M00S
SUMMARY:[DEADLINE] Ερωτήσεις Σωστού/Λάθους
DESCRIPTION:Μπορείς να επιλέξεις αν κάθε πρόταση είναι Σωστή ή Λάθος;
(deadline: 2021-01-29 22:45:00)
BEGIN:VALARM
TRIGGER:-PT24H
DURATION:PT10H
ACTION:DISPLAY
DESCRIPTION:DEADLINE REMINDER for Ερωτήσεις Σωστού/Λάθους
END:VALARM
END:VEVENT
BEGIN:VEVENT
DTSTART:20210129T224500
DURATION:PT00H00M00S
SUMMARY:[DEADLINE] Άσκηση "Σημεία της Γης"
DESCRIPTION:Κατάγραψε τι συναντάς στα σημεία της Γης με τους παρακάτω συνδυασμούς γεωγραφικού πλάτους και μήκους, αφού πρώτα παρακολουθήσεις το βοηθητικό βίντεο με οδηγίες.
(deadline: 2021-01-29 22:45:00)
BEGIN:VALARM
TRIGGER:-PT24H
DURATION:PT10H
ACTION:DISPLAY
DESCRIPTION:DEADLINE REMINDER for Άσκηση "Σημεία της Γης"
END:VALARM
END:VEVENT
END:VCALENDAR
