BEGIN:VCALENDAR
VERSION:2.0
BEGIN:VEVENT
DTSTART:20260421T214627
DURATION:PT00H00M00S
SUMMARY:[DEADLINE] Ανατομία της καρδιάς 
DESCRIPTION:
BEGIN:VALARM
TRIGGER:-PT24H
DURATION:PT10H
ACTION:DISPLAY
DESCRIPTION:DEADLINE REMINDER for Ανατομία της καρδιάς
END:VALARM
END:VEVENT
BEGIN:VEVENT
DTSTART:20260421T214627
DURATION:PT00H00M00S
SUMMARY:[DEADLINE] Συμπλήρωση Πινέζων στην εικόνα 
DESCRIPTION:
BEGIN:VALARM
TRIGGER:-PT24H
DURATION:PT10H
ACTION:DISPLAY
DESCRIPTION:DEADLINE REMINDER for Συμπλήρωση Πινέζων στην εικόνα
END:VALARM
END:VEVENT
BEGIN:VEVENT
DTSTART:20260421T214627
DURATION:PT00H00M00S
SUMMARY:[DEADLINE] Πρώτο upload εικόνας ή τραγουδιού.....
DESCRIPTION:
BEGIN:VALARM
TRIGGER:-PT24H
DURATION:PT10H
ACTION:DISPLAY
DESCRIPTION:DEADLINE REMINDER for Πρώτο upload εικόνας ή τραγουδιού.....
END:VALARM
END:VEVENT
BEGIN:VEVENT
DTSTART:20260421T214627
DURATION:PT00H00M00S
SUMMARY:[DEADLINE] Quizzzzzzzz....!!! 
DESCRIPTION:
BEGIN:VALARM
TRIGGER:-PT24H
DURATION:PT10H
ACTION:DISPLAY
DESCRIPTION:DEADLINE REMINDER for Quizzzzzzzz....!!!
END:VALARM
END:VEVENT
BEGIN:VEVENT
DTSTART:20260421T214627
DURATION:PT00H00M00S
SUMMARY:[DEADLINE] Ταιριάξτε τα σωστά!!! 
DESCRIPTION:
BEGIN:VALARM
TRIGGER:-PT24H
DURATION:PT10H
ACTION:DISPLAY
DESCRIPTION:DEADLINE REMINDER for Ταιριάξτε τα σωστά!!!
END:VALARM
END:VEVENT
BEGIN:VEVENT
DTSTART:20260421T214627
DURATION:PT00H00M00S
SUMMARY:[DEADLINE] Σταυρόλεξο!
DESCRIPTION:
BEGIN:VALARM
TRIGGER:-PT24H
DURATION:PT10H
ACTION:DISPLAY
DESCRIPTION:DEADLINE REMINDER for Σταυρόλεξο!
END:VALARM
END:VEVENT
BEGIN:VEVENT
DTSTART:20260421T214627
DURATION:PT00H00M00S
SUMMARY:[DEADLINE] Δομικά στοιχεία της καρδιάς
DESCRIPTION:
BEGIN:VALARM
TRIGGER:-PT24H
DURATION:PT10H
ACTION:DISPLAY
DESCRIPTION:DEADLINE REMINDER for Δομικά στοιχεία της καρδιάς
END:VALARM
END:VEVENT
BEGIN:VEVENT
DTSTART:20260421T214627
DURATION:PT00H00M00S
SUMMARY:[DEADLINE] Τι είναι η καρδιά;;;
DESCRIPTION:
BEGIN:VALARM
TRIGGER:-PT24H
DURATION:PT10H
ACTION:DISPLAY
DESCRIPTION:DEADLINE REMINDER for Τι είναι η καρδιά;;;
END:VALARM
END:VEVENT
BEGIN:VEVENT
DTSTART:20260421T214627
DURATION:PT00H00M00S
SUMMARY:[DEADLINE] Βαλβίδες της καρδιάς
DESCRIPTION:
BEGIN:VALARM
TRIGGER:-PT24H
DURATION:PT10H
ACTION:DISPLAY
DESCRIPTION:DEADLINE REMINDER for Βαλβίδες της καρδιάς
END:VALARM
END:VEVENT
BEGIN:VEVENT
DTSTART:20260421T214627
DURATION:PT00H00M00S
SUMMARY:[DEADLINE] Ο ορισμός του κυκλοφορικού συστήματος
DESCRIPTION:
BEGIN:VALARM
TRIGGER:-PT24H
DURATION:PT10H
ACTION:DISPLAY
DESCRIPTION:DEADLINE REMINDER for Ο ορισμός του κυκλοφορικού συστήματος
END:VALARM
END:VEVENT
END:VCALENDAR
