BEGIN:VCALENDAR
VERSION:2.0
BEGIN:VEVENT
DTSTART:20260421T201243
DURATION:PT00H00M00S
SUMMARY:[DEADLINE] ο Λαγός και η Χελώνα
DESCRIPTION:
BEGIN:VALARM
TRIGGER:-PT24H
DURATION:PT10H
ACTION:DISPLAY
DESCRIPTION:DEADLINE REMINDER for ο Λαγός και η Χελώνα
END:VALARM
END:VEVENT
BEGIN:VEVENT
DTSTART:20260421T201243
DURATION:PT00H00M00S
SUMMARY:[DEADLINE] ΤΩΡΑ Η ΣΕΙΡΑ ΣΟΥ.
DESCRIPTION:
BEGIN:VALARM
TRIGGER:-PT24H
DURATION:PT10H
ACTION:DISPLAY
DESCRIPTION:DEADLINE REMINDER for ΤΩΡΑ Η ΣΕΙΡΑ ΣΟΥ.
END:VALARM
END:VEVENT
BEGIN:VEVENT
DTSTART:20260421T201243
DURATION:PT00H00M00S
SUMMARY:[DEADLINE] Ο Λαγός και η χελώνα
DESCRIPTION:
BEGIN:VALARM
TRIGGER:-PT24H
DURATION:PT10H
ACTION:DISPLAY
DESCRIPTION:DEADLINE REMINDER for Ο Λαγός και η χελώνα
END:VALARM
END:VEVENT
BEGIN:VEVENT
DTSTART:20220924T114500
DURATION:PT01H00M00S
SUMMARY:[COURSE] όλοι μετά το μάθημα στους Madrugada!!!
DESCRIPTION:Madrugada
END:VEVENT
END:VCALENDAR
