BEGIN:VCALENDAR
VERSION:2.0
BEGIN:VEVENT
DTSTART:20260423T055040
DURATION:PT00H00M00S
SUMMARY:[DEADLINE] Δραστηριότητα 1η
DESCRIPTION:
BEGIN:VALARM
TRIGGER:-PT24H
DURATION:PT10H
ACTION:DISPLAY
DESCRIPTION:DEADLINE REMINDER for Δραστηριότητα 1η
END:VALARM
END:VEVENT
BEGIN:VEVENT
DTSTART:20260423T055040
DURATION:PT00H00M00S
SUMMARY:[DEADLINE] Συμπλήρωση φύλλων εργασίας
DESCRIPTION:
BEGIN:VALARM
TRIGGER:-PT24H
DURATION:PT10H
ACTION:DISPLAY
DESCRIPTION:DEADLINE REMINDER for Συμπλήρωση φύλλων εργασίας
END:VALARM
END:VEVENT
BEGIN:VEVENT
DTSTART:20260423T055040
DURATION:PT00H00M00S
SUMMARY:[DEADLINE] Αντιστοιχείστε τα πολύγωνα με τις σωστές ονομασίες
DESCRIPTION:
BEGIN:VALARM
TRIGGER:-PT24H
DURATION:PT10H
ACTION:DISPLAY
DESCRIPTION:DEADLINE REMINDER for Αντιστοιχείστε τα πολύγωνα με τις σωστές ονομασίες
END:VALARM
END:VEVENT
BEGIN:VEVENT
DTSTART:20260423T055040
DURATION:PT00H00M00S
SUMMARY:[DEADLINE] Η περίμετρος ενός σχήματος...
DESCRIPTION:
BEGIN:VALARM
TRIGGER:-PT24H
DURATION:PT10H
ACTION:DISPLAY
DESCRIPTION:DEADLINE REMINDER for Η περίμετρος ενός σχήματος...
END:VALARM
END:VEVENT
BEGIN:VEVENT
DTSTART:20260423T055040
DURATION:PT00H00M00S
SUMMARY:[DEADLINE] Συμπληρώστε τα κενά.
DESCRIPTION:
BEGIN:VALARM
TRIGGER:-PT24H
DURATION:PT10H
ACTION:DISPLAY
DESCRIPTION:DEADLINE REMINDER for Συμπληρώστε τα κενά.
END:VALARM
END:VEVENT
BEGIN:VEVENT
DTSTART:20260423T055040
DURATION:PT00H00M00S
SUMMARY:[DEADLINE] Επιλέξτε τη σωστή απάντηση.
DESCRIPTION:
BEGIN:VALARM
TRIGGER:-PT24H
DURATION:PT10H
ACTION:DISPLAY
DESCRIPTION:DEADLINE REMINDER for Επιλέξτε τη σωστή απάντηση.
END:VALARM
END:VEVENT
END:VCALENDAR
