BEGIN:VCALENDAR
VERSION:2.0
BEGIN:VEVENT
DTSTART:20260422T130333
DURATION:PT00H00M00S
SUMMARY:[DEADLINE] ΟΙ ΣΥΝΕΠΕΙΕΣ ΤΩΝ ΑΝΑΚΑΛΥΨΕΩΝ
DESCRIPTION:
BEGIN:VALARM
TRIGGER:-PT24H
DURATION:PT10H
ACTION:DISPLAY
DESCRIPTION:DEADLINE REMINDER for ΟΙ ΣΥΝΕΠΕΙΕΣ ΤΩΝ ΑΝΑΚΑΛΥΨΕΩΝ
END:VALARM
END:VEVENT
BEGIN:VEVENT
DTSTART:20260422T130333
DURATION:PT00H00M00S
SUMMARY:[DEADLINE] Η κατάκτηση του Νέου Κόσμου και οι αποικιακές αυτοκρατορίες
DESCRIPTION:
BEGIN:VALARM
TRIGGER:-PT24H
DURATION:PT10H
ACTION:DISPLAY
DESCRIPTION:DEADLINE REMINDER for Η κατάκτηση του Νέου Κόσμου και οι αποικιακές αυτοκρατορίες
END:VALARM
END:VEVENT
BEGIN:VEVENT
DTSTART:20260422T130333
DURATION:PT00H00M00S
SUMMARY:[DEADLINE] Μορφές και είδη πηγών
DESCRIPTION:
BEGIN:VALARM
TRIGGER:-PT24H
DURATION:PT10H
ACTION:DISPLAY
DESCRIPTION:DEADLINE REMINDER for Μορφές και είδη πηγών
END:VALARM
END:VEVENT
END:VCALENDAR
