BEGIN:VCALENDAR
VERSION:2.0
BEGIN:VEVENT
DTSTART:20260422T134422
DURATION:PT00H00M00S
SUMMARY:[DEADLINE] Επιχειρήματα Ενότητας
DESCRIPTION:
BEGIN:VALARM
TRIGGER:-PT24H
DURATION:PT10H
ACTION:DISPLAY
DESCRIPTION:DEADLINE REMINDER for Επιχειρήματα Ενότητας
END:VALARM
END:VEVENT
BEGIN:VEVENT
DTSTART:20260422T134422
DURATION:PT00H00M00S
SUMMARY:[DEADLINE] Πολλαπλής επιλογής
DESCRIPTION:
BEGIN:VALARM
TRIGGER:-PT24H
DURATION:PT10H
ACTION:DISPLAY
DESCRIPTION:DEADLINE REMINDER for Πολλαπλής επιλογής
END:VALARM
END:VEVENT
BEGIN:VEVENT
DTSTART:20260422T134422
DURATION:PT00H00M00S
SUMMARY:[DEADLINE] Πολλαπλής επιλογής
DESCRIPTION:
BEGIN:VALARM
TRIGGER:-PT24H
DURATION:PT10H
ACTION:DISPLAY
DESCRIPTION:DEADLINE REMINDER for Πολλαπλής επιλογής
END:VALARM
END:VEVENT
BEGIN:VEVENT
DTSTART:20260422T134422
DURATION:PT00H00M00S
SUMMARY:[DEADLINE] Ταίριασμα
DESCRIPTION:
BEGIN:VALARM
TRIGGER:-PT24H
DURATION:PT10H
ACTION:DISPLAY
DESCRIPTION:DEADLINE REMINDER for Ταίριασμα
END:VALARM
END:VEVENT
END:VCALENDAR
