BEGIN:VCALENDAR
VERSION:2.0
BEGIN:VEVENT
DTSTART:20260421T153159
DURATION:PT00H00M00S
SUMMARY:[DEADLINE] Ασκηση Πολλαπλής επιλογής με μία σωστή απάντηση
DESCRIPTION:
BEGIN:VALARM
TRIGGER:-PT24H
DURATION:PT10H
ACTION:DISPLAY
DESCRIPTION:DEADLINE REMINDER for Ασκηση Πολλαπλής επιλογής με μία σωστή απάντηση
END:VALARM
END:VEVENT
BEGIN:VEVENT
DTSTART:20260421T153159
DURATION:PT00H00M00S
SUMMARY:[DEADLINE] Βασικές έννοιες του Αλγόριθμου
DESCRIPTION:
BEGIN:VALARM
TRIGGER:-PT24H
DURATION:PT10H
ACTION:DISPLAY
DESCRIPTION:DEADLINE REMINDER for Βασικές έννοιες του Αλγόριθμου
END:VALARM
END:VEVENT
BEGIN:VEVENT
DTSTART:20260421T153159
DURATION:PT00H00M00S
SUMMARY:[DEADLINE] Παράδειγμα αλγορίθμων
DESCRIPTION:
BEGIN:VALARM
TRIGGER:-PT24H
DURATION:PT10H
ACTION:DISPLAY
DESCRIPTION:DEADLINE REMINDER for Παράδειγμα αλγορίθμων
END:VALARM
END:VEVENT
BEGIN:VEVENT
DTSTART:20260421T153159
DURATION:PT00H00M00S
SUMMARY:[DEADLINE] Ασκηση - Συνταγή μαγειρικής
DESCRIPTION:
BEGIN:VALARM
TRIGGER:-PT24H
DURATION:PT10H
ACTION:DISPLAY
DESCRIPTION:DEADLINE REMINDER for Ασκηση - Συνταγή μαγειρικής
END:VALARM
END:VEVENT
BEGIN:VEVENT
DTSTART:20260421T153159
DURATION:PT00H00M00S
SUMMARY:[DEADLINE] Αυτοαξιολόγηση
DESCRIPTION:
BEGIN:VALARM
TRIGGER:-PT24H
DURATION:PT10H
ACTION:DISPLAY
DESCRIPTION:DEADLINE REMINDER for Αυτοαξιολόγηση
END:VALARM
END:VEVENT
BEGIN:VEVENT
DTSTART:20220917T162500
DURATION:PT00H00M00S
SUMMARY:[DEADLINE] Παραδείγματα αλγορίθμων
DESCRIPTION:Γράψε μου ένα παράδειγμα ενός αλγορίθμου από την καθημερινότητα σου.
(deadline: 2022-09-17 16:25:00)
BEGIN:VALARM
TRIGGER:-PT24H
DURATION:PT10H
ACTION:DISPLAY
DESCRIPTION:DEADLINE REMINDER for Παραδείγματα αλγορίθμων
END:VALARM
END:VEVENT
END:VCALENDAR
