BEGIN:VCALENDAR
VERSION:2.0
BEGIN:VEVENT
DTSTART:20260421T203549
DURATION:PT00H00M00S
SUMMARY:[DEADLINE] Εργασία 1
DESCRIPTION:
BEGIN:VALARM
TRIGGER:-PT24H
DURATION:PT10H
ACTION:DISPLAY
DESCRIPTION:DEADLINE REMINDER for Εργασία 1
END:VALARM
END:VEVENT
BEGIN:VEVENT
DTSTART:20260421T203549
DURATION:PT00H00M00S
SUMMARY:[DEADLINE] Ασκήσεις προβλημάτων
DESCRIPTION:
BEGIN:VALARM
TRIGGER:-PT24H
DURATION:PT10H
ACTION:DISPLAY
DESCRIPTION:DEADLINE REMINDER for Ασκήσεις προβλημάτων
END:VALARM
END:VEVENT
END:VCALENDAR
