BEGIN:VCALENDAR
VERSION:2.0
BEGIN:VEVENT
DTSTART:20260422T145419
DURATION:PT00H00M00S
SUMMARY:[DEADLINE] Άσκηση 1η
DESCRIPTION:
BEGIN:VALARM
TRIGGER:-PT24H
DURATION:PT10H
ACTION:DISPLAY
DESCRIPTION:DEADLINE REMINDER for Άσκηση 1η
END:VALARM
END:VEVENT
END:VCALENDAR
