BEGIN:VCALENDAR
VERSION:2.0
BEGIN:VEVENT
DTSTART:20260421T235713
DURATION:PT00H00M00S
SUMMARY:[DEADLINE] Πρόσθεση τριψήφιων αριθμών (με κρατούμενα)
DESCRIPTION:
BEGIN:VALARM
TRIGGER:-PT24H
DURATION:PT10H
ACTION:DISPLAY
DESCRIPTION:DEADLINE REMINDER for Πρόσθεση τριψήφιων αριθμών (με κρατούμενα)
END:VALARM
END:VEVENT
BEGIN:VEVENT
DTSTART:20260421T235713
DURATION:PT00H00M00S
SUMMARY:[DEADLINE] Εργασία 1.2.1: Πρόσθεση διψήφιων αριθμών
DESCRIPTION:
BEGIN:VALARM
TRIGGER:-PT24H
DURATION:PT10H
ACTION:DISPLAY
DESCRIPTION:DEADLINE REMINDER for Εργασία 1.2.1: Πρόσθεση διψήφιων αριθμών
END:VALARM
END:VEVENT
BEGIN:VEVENT
DTSTART:20260421T235713
DURATION:PT00H00M00S
SUMMARY:[DEADLINE] Άσκηση 1.1.4. : Αποστάσεις Πόλεων
DESCRIPTION:
BEGIN:VALARM
TRIGGER:-PT24H
DURATION:PT10H
ACTION:DISPLAY
DESCRIPTION:DEADLINE REMINDER for Άσκηση 1.1.4. : Αποστάσεις Πόλεων
END:VALARM
END:VEVENT
BEGIN:VEVENT
DTSTART:20260421T235713
DURATION:PT00H00M00S
SUMMARY:[DEADLINE] Εργασία 1.1.1 : Η απόσταση της πόλης μου
DESCRIPTION:
BEGIN:VALARM
TRIGGER:-PT24H
DURATION:PT10H
ACTION:DISPLAY
DESCRIPTION:DEADLINE REMINDER for Εργασία 1.1.1 : Η απόσταση της πόλης μου
END:VALARM
END:VEVENT
BEGIN:VEVENT
DTSTART:20260421T235713
DURATION:PT00H00M00S
SUMMARY:[DEADLINE] Τεστ 1ης Ενότητας
DESCRIPTION:
BEGIN:VALARM
TRIGGER:-PT24H
DURATION:PT10H
ACTION:DISPLAY
DESCRIPTION:DEADLINE REMINDER for Τεστ 1ης Ενότητας
END:VALARM
END:VEVENT
BEGIN:VEVENT
DTSTART:20260421T235713
DURATION:PT00H00M00S
SUMMARY:[DEADLINE] Άσκηση 1.1.3. : Ανάλυση αριθμού σε άθροισμα
DESCRIPTION:
BEGIN:VALARM
TRIGGER:-PT24H
DURATION:PT10H
ACTION:DISPLAY
DESCRIPTION:DEADLINE REMINDER for Άσκηση 1.1.3. : Ανάλυση αριθμού σε άθροισμα
END:VALARM
END:VEVENT
BEGIN:VEVENT
DTSTART:20260421T235713
DURATION:PT00H00M00S
SUMMARY:[DEADLINE] Άσκηση 1.1.2. : Γράψτε τους αριθμούς ολογράφως
DESCRIPTION:
BEGIN:VALARM
TRIGGER:-PT24H
DURATION:PT10H
ACTION:DISPLAY
DESCRIPTION:DEADLINE REMINDER for Άσκηση 1.1.2. : Γράψτε τους αριθμούς ολογράφως
END:VALARM
END:VEVENT
BEGIN:VEVENT
DTSTART:20260421T235713
DURATION:PT00H00M00S
SUMMARY:[DEADLINE] Άσκηση 1.1.1 : Ποιός αριθμός είναι;
DESCRIPTION:
BEGIN:VALARM
TRIGGER:-PT24H
DURATION:PT10H
ACTION:DISPLAY
DESCRIPTION:DEADLINE REMINDER for Άσκηση 1.1.1 : Ποιός αριθμός είναι;
END:VALARM
END:VEVENT
END:VCALENDAR
