BEGIN:VCALENDAR
VERSION:2.0
BEGIN:VEVENT
DTSTART:20260423T074318
DURATION:PT00H00M00S
SUMMARY:[DEADLINE] Διαδραστική άσκηση 1ης ενότητας
DESCRIPTION:
BEGIN:VALARM
TRIGGER:-PT24H
DURATION:PT10H
ACTION:DISPLAY
DESCRIPTION:DEADLINE REMINDER for Διαδραστική άσκηση 1ης ενότητας
END:VALARM
END:VEVENT
END:VCALENDAR
