BEGIN:VCALENDAR
VERSION:2.0
BEGIN:VEVENT
DTSTART:20260421T225438
DURATION:PT00H00M00S
SUMMARY:[DEADLINE] ΑΣΚΗΣΗ 1 - ΜΙΚΡΟΒΙΑ
DESCRIPTION:
BEGIN:VALARM
TRIGGER:-PT24H
DURATION:PT10H
ACTION:DISPLAY
DESCRIPTION:DEADLINE REMINDER for ΑΣΚΗΣΗ 1 - ΜΙΚΡΟΒΙΑ
END:VALARM
END:VEVENT
BEGIN:VEVENT
DTSTART:20260421T225438
DURATION:PT00H00M00S
SUMMARY:[DEADLINE] ΑΣΚΗΣΗ 2 - ΚΑΝΟΝΕΣ ΥΓΙΕΙΝΗΣ
DESCRIPTION:
BEGIN:VALARM
TRIGGER:-PT24H
DURATION:PT10H
ACTION:DISPLAY
DESCRIPTION:DEADLINE REMINDER for ΑΣΚΗΣΗ 2 - ΚΑΝΟΝΕΣ ΥΓΙΕΙΝΗΣ
END:VALARM
END:VEVENT
BEGIN:VEVENT
DTSTART:20260421T225438
DURATION:PT00H00M00S
SUMMARY:[DEADLINE] ΑΣΚΗΣΗ 3 - ΠΡΟΛΗΨΗ ΑΝΤΙΜΕΤΩΠΙΣΗ
DESCRIPTION:
BEGIN:VALARM
TRIGGER:-PT24H
DURATION:PT10H
ACTION:DISPLAY
DESCRIPTION:DEADLINE REMINDER for ΑΣΚΗΣΗ 3 - ΠΡΟΛΗΨΗ ΑΝΤΙΜΕΤΩΠΙΣΗ
END:VALARM
END:VEVENT
BEGIN:VEVENT
DTSTART:20260421T225438
DURATION:PT00H00M00S
SUMMARY:[DEADLINE] ΑΣΚΗΣΗ 4 - ΔΙΑΔΕΔΟΜΕΝΕΣ ΜΕΤΑΔΟΤΙΚΕΣ ΑΣΘΕΝΕΙΕΣ
DESCRIPTION:
BEGIN:VALARM
TRIGGER:-PT24H
DURATION:PT10H
ACTION:DISPLAY
DESCRIPTION:DEADLINE REMINDER for ΑΣΚΗΣΗ 4 - ΔΙΑΔΕΔΟΜΕΝΕΣ ΜΕΤΑΔΟΤΙΚΕΣ ΑΣΘΕΝΕΙΕΣ
END:VALARM
END:VEVENT
BEGIN:VEVENT
DTSTART:20260421T225438
DURATION:PT00H00M00S
SUMMARY:[DEADLINE] ΣΥΝΕΧΕΙΑ ΙΣΤΟΡΙΑΣ
DESCRIPTION:
BEGIN:VALARM
TRIGGER:-PT24H
DURATION:PT10H
ACTION:DISPLAY
DESCRIPTION:DEADLINE REMINDER for ΣΥΝΕΧΕΙΑ ΙΣΤΟΡΙΑΣ
END:VALARM
END:VEVENT
END:VCALENDAR
