BEGIN:VCALENDAR
VERSION:2.0
BEGIN:VEVENT
DTSTART:20260422T120527
DURATION:PT00H00M00S
SUMMARY:[DEADLINE] O Καραγκιόζης. Ένα ελληνικό θέατρο σκιών
DESCRIPTION:
BEGIN:VALARM
TRIGGER:-PT24H
DURATION:PT10H
ACTION:DISPLAY
DESCRIPTION:DEADLINE REMINDER for O Καραγκιόζης. Ένα ελληνικό θέατρο σκιών
END:VALARM
END:VEVENT
END:VCALENDAR
