BEGIN:VCALENDAR
VERSION:2.0
BEGIN:VEVENT
DTSTART:20260423T111447
DURATION:PT00H00M00S
SUMMARY:[DEADLINE] 1. Ejercicio de Verdadero/Falso
DESCRIPTION:
BEGIN:VALARM
TRIGGER:-PT24H
DURATION:PT10H
ACTION:DISPLAY
DESCRIPTION:DEADLINE REMINDER for 1. Ejercicio de Verdadero/Falso
END:VALARM
END:VEVENT
BEGIN:VEVENT
DTSTART:20260423T111447
DURATION:PT00H00M00S
SUMMARY:[DEADLINE] 2. Columnas
DESCRIPTION:
BEGIN:VALARM
TRIGGER:-PT24H
DURATION:PT10H
ACTION:DISPLAY
DESCRIPTION:DEADLINE REMINDER for 2. Columnas
END:VALARM
END:VEVENT
BEGIN:VEVENT
DTSTART:20260423T111447
DURATION:PT00H00M00S
SUMMARY:[DEADLINE] 3. Selección múltiple
DESCRIPTION:
BEGIN:VALARM
TRIGGER:-PT24H
DURATION:PT10H
ACTION:DISPLAY
DESCRIPTION:DEADLINE REMINDER for 3. Selección múltiple
END:VALARM
END:VEVENT
BEGIN:VEVENT
DTSTART:20260423T111447
DURATION:PT00H00M00S
SUMMARY:[DEADLINE] 4. Vocabulario "La ropa"
DESCRIPTION:
BEGIN:VALARM
TRIGGER:-PT24H
DURATION:PT10H
ACTION:DISPLAY
DESCRIPTION:DEADLINE REMINDER for 4. Vocabulario "La ropa"
END:VALARM
END:VEVENT
END:VCALENDAR
