BEGIN:VCALENDAR
VERSION:2.0
BEGIN:VEVENT
DTSTART:20260422T054816
DURATION:PT00H00M00S
SUMMARY:[DEADLINE] Περιγράφω τη σειρά επίλυσης των εξισώσεων α βαθμού
DESCRIPTION:
BEGIN:VALARM
TRIGGER:-PT24H
DURATION:PT10H
ACTION:DISPLAY
DESCRIPTION:DEADLINE REMINDER for Περιγράφω τη σειρά επίλυσης των εξισώσεων α βαθμού
END:VALARM
END:VEVENT
BEGIN:VEVENT
DTSTART:20260422T054816
DURATION:PT00H00M00S
SUMMARY:[DEADLINE] Άσκηση 1
DESCRIPTION:
BEGIN:VALARM
TRIGGER:-PT24H
DURATION:PT10H
ACTION:DISPLAY
DESCRIPTION:DEADLINE REMINDER for Άσκηση 1
END:VALARM
END:VEVENT
END:VCALENDAR
