BEGIN:VCALENDAR
VERSION:2.0
BEGIN:VEVENT
DTSTART:20260423T074444
DURATION:PT00H00M00S
SUMMARY:[DEADLINE] ασκηση 1
DESCRIPTION:
BEGIN:VALARM
TRIGGER:-PT24H
DURATION:PT10H
ACTION:DISPLAY
DESCRIPTION:DEADLINE REMINDER for ασκηση 1
END:VALARM
END:VEVENT
BEGIN:VEVENT
DTSTART:20260423T074444
DURATION:PT00H00M00S
SUMMARY:[DEADLINE] Αλλαγες Φάσης νερού
DESCRIPTION:
BEGIN:VALARM
TRIGGER:-PT24H
DURATION:PT10H
ACTION:DISPLAY
DESCRIPTION:DEADLINE REMINDER for Αλλαγες Φάσης νερού
END:VALARM
END:VEVENT
END:VCALENDAR
