BEGIN:VCALENDAR
VERSION:2.0
BEGIN:VEVENT
DTSTART:20221231T000000
DURATION:PT00H00M00S
SUMMARY:[DEADLINE] Προαιρετική εργασία
DESCRIPTION:Προτείνετε λύσεις με τις οποίες θα αντιμετωπίζατε ένα ραστιστικό περιστατικό στο σχολείο είτε ως θύματα είτε ως παρατηρητές του γεγονότος! 
(deadline: 2022-12-31 00:00:00)
BEGIN:VALARM
TRIGGER:-PT24H
DURATION:PT10H
ACTION:DISPLAY
DESCRIPTION:DEADLINE REMINDER for Προαιρετική εργασία
END:VALARM
END:VEVENT
BEGIN:VEVENT
DTSTART:20221231T000000
DURATION:PT00H00M00S
SUMMARY:[DEADLINE] Άσκηση 1
DESCRIPTION:Αφού διαβάσετε ξανά το κείμενο "Όλου του κόσμου τα παιδιά", συμπληρώστε τα κενά με τις κατάλληλες λέξεις!  
(deadline: 2022-12-31 00:00:00)
BEGIN:VALARM
TRIGGER:-PT24H
DURATION:PT10H
ACTION:DISPLAY
DESCRIPTION:DEADLINE REMINDER for Άσκηση 1
END:VALARM
END:VEVENT
BEGIN:VEVENT
DTSTART:20221231T000000
DURATION:PT00H00M00S
SUMMARY:[DEADLINE] Άσκηση 2
DESCRIPTION:Να αντιστοιχίσετε τα στοιχεία της στήλης Α με τα αντίστοιχα της στήλης Β! 
(deadline: 2022-12-31 00:00:00)
BEGIN:VALARM
TRIGGER:-PT24H
DURATION:PT10H
ACTION:DISPLAY
DESCRIPTION:DEADLINE REMINDER for Άσκηση 2
END:VALARM
END:VEVENT
BEGIN:VEVENT
DTSTART:20221231T000000
DURATION:PT00H00M00S
SUMMARY:[DEADLINE] Άσκηση 3
DESCRIPTION:Αντιστοίχιση!
(deadline: 2022-12-31 00:00:00)
BEGIN:VALARM
TRIGGER:-PT24H
DURATION:PT10H
ACTION:DISPLAY
DESCRIPTION:DEADLINE REMINDER for Άσκηση 3
END:VALARM
END:VEVENT
BEGIN:VEVENT
DTSTART:20221231T000000
DURATION:PT00H00M00S
SUMMARY:[DEADLINE] Άσκηση 7
DESCRIPTION:(deadline: 2022-12-31 00:00:00)
BEGIN:VALARM
TRIGGER:-PT24H
DURATION:PT10H
ACTION:DISPLAY
DESCRIPTION:DEADLINE REMINDER for Άσκηση 7
END:VALARM
END:VEVENT
BEGIN:VEVENT
DTSTART:20221231T000000
DURATION:PT00H00M00S
SUMMARY:[DEADLINE] Άσκηση 8
DESCRIPTION:Ταίριασμα στοιχείων στήλης Α με τα στοιχεία στη στήλη Β ! 
(deadline: 2022-12-31 00:00:00)
BEGIN:VALARM
TRIGGER:-PT24H
DURATION:PT10H
ACTION:DISPLAY
DESCRIPTION:DEADLINE REMINDER for Άσκηση 8
END:VALARM
END:VEVENT
BEGIN:VEVENT
DTSTART:20221231T000000
DURATION:PT00H00M00S
SUMMARY:[DEADLINE] Άσκηση 9
DESCRIPTION:Συμπλήρωση κενών 
(deadline: 2022-12-31 00:00:00)
BEGIN:VALARM
TRIGGER:-PT24H
DURATION:PT10H
ACTION:DISPLAY
DESCRIPTION:DEADLINE REMINDER for Άσκηση 9
END:VALARM
END:VEVENT
END:VCALENDAR
